BEGIN:VCALENDAR
VERSION:2.0
PRODID:-//ChamberMaster//Event Calendar 2.0//EN
METHOD:PUBLISH
X-PUBLISHED-TTL:P3D
REFRESH-INTERVAL:P3D
CALSCALE:GREGORIAN
BEGIN:VEVENT
DTSTART:20180604T010000Z
DTEND:20180604T050000Z
X-MICROSOFT-CDO-ALLDAYEVENT:FALSE
SUMMARY:Tomfoolery On Tremont 6
DESCRIPTION:SUNDAY FUNDAY! We have a stacked lineup of super secret comedians coming June 3rd at 8pm! Tickets are $7 in advance\, $10 at the door. $3 rum and coke\, $2 Heineken. Doors open at 7pm and show starts at 8pm.\n\nGet your discounted ticket now: https://www.eventbrite.com/e/tomfoolery-on-tremont-6-tickets-46328626168
X-ALT-DESC;FMTTYPE=text/html:<p><br />\n<span style="font-size:16px\;"><span style="font-family:arial\;"><span style="color: rgb(29\, 33\, 41)\;">SUNDAY FUNDAY! We have a stacked lineup of super secret comedians coming June 3rd at 8pm! Tickets are $7 in advance\, $10 at the door.&nbsp\;</span><span style="color: rgb(29\, 33\, 41)\;">$3 rum and coke\, $2 Heineken. Doors open at 7pm and show starts at 8pm.</span></span></span></p>\n\n<p><span style="font-size:16px\;"><span style="color: rgb(29\, 33\, 41)\;">Get your discounted ticket now:&nbsp\;</span><a href="https://www.eventbrite.com/e/tomfoolery-on-tremont-6-tickets-46328626168" rel="nofollow noopener" style="box-sizing: border-box\; background-color: rgb(255\, 255\, 255)\; color: rgb(54\, 88\, 153)\; text-decoration-line: none\; font-family: inherit\; cursor: pointer\;" target="_blank">https://www.eventbrite.com/e/tomfoolery-on-tremont-6-tickets-46328626168</a></span></p>\n
LOCATION:The Renwick Mansion 901 Tremont Avenue Davenport\, IA 52803
UID:e.2843.13277
SEQUENCE:3
DTSTAMP:20260423T090726Z
URL:https://member.quadcitieschamber.com/events/details/tomfoolery-on-tremont-6-13277
END:VEVENT

END:VCALENDAR
