BEGIN:VCALENDAR
VERSION:2.0
PRODID:-//ChamberMaster//Event Calendar 2.0//EN
METHOD:PUBLISH
X-PUBLISHED-TTL:P3D
REFRESH-INTERVAL:P3D
CALSCALE:GREGORIAN
BEGIN:VEVENT
DTSTART:20180820T010000Z
DTEND:20180820T043000Z
X-MICROSOFT-CDO-ALLDAYEVENT:FALSE
SUMMARY:Tomfoolery On Tremont 8
DESCRIPTION:SUNDAY FUNDAY! Don't miss this chance to see Richard Reese and local favorites on stage at Renwick!\n\nDoors @ 7pm\, Laughs @ 8pm\n\nFeaturing Richard Reese (see bio below)\, Jesse Tuttle\, Lauren Alexis Wood\, Andrew Cline\, Luke Swanson\, and your Emcee Chris Schlichting.\n\nDrink Specials: $2 Heineken Bottles and $3 Rum and Cokes\n\nRichard Reese has been dishing out the laughs with the best of them for years. He's accumulated much experience over that time - including eing voted "Most Entertaining" at the MGM Grand in Las Vegas\, and winning the Great American Comedy Fest in 2008. Followed by those escapades were the release of two comedy specials entitled "Smoke\, Jokes & Lasers (2013)" and "Always Laugh Forever Before You Die Yesterday (2015)." In 2016 his album Jetpack Tuxedo arrived on digital platforms to pleasing reviews. As a tenacious agent of humor\, Mr. Reese brings an original and unpredictable approach to his show. 2018 saw the release of his first book\, "SKYAIKU." Creatively witty and intelligently silly\, this comedian/filmmaker continues to delght audiences near and far.
X-ALT-DESC;FMTTYPE=text/html:<p><span style="color:black\; font-family:helvetica\,sans-serif\; font-size:10.0pt">SUNDAY FUNDAY! Don&#39\;t miss this chance to see Richard Reese and local favorites on stage at Renwick!</span></p>\n\n<p style="text-align:start"><span style="color:black\; font-family:helvetica\,sans-serif\; font-size:10.0pt">Doors @ 7pm\, Laughs @ 8pm</span></p>\n\n<p style="text-align:start"><span style="color:black\; font-family:helvetica\,sans-serif\; font-size:10.0pt">Featuring Richard Reese (see bio below)\, Jesse Tuttle\, Lauren Alexis Wood\, Andrew Cline\, Luke Swanson\, and your Emcee Chris Schlichting.</span></p>\n\n<p style="text-align:start"><span style="color:black\; font-family:helvetica\,sans-serif\; font-size:10.0pt">Drink Specials: $2 Heineken Bottles and $3 Rum and Cokes</span></p>\n\n<p style="text-align:start"><span style="color:black\; font-family:helvetica\,sans-serif\; font-size:10.0pt">Richard Reese has been dishing out the laughs with the best of them for years. He&#39\;s accumulated much experience over that time - including eing voted &quot\;Most Entertaining&quot\; at the MGM Grand in Las Vegas\, and winning the Great American Comedy Fest in 2008. Followed by those escapades were the release of two comedy specials entitled &quot\;Smoke\, Jokes &amp\; Lasers (2013)&quot\; and &quot\;Always Laugh Forever Before You Die Yesterday (2015).&quot\; In 2016 his album Jetpack Tuxedo arrived on digital platforms to pleasing reviews. As a tenacious agent of humor\, Mr. Reese brings an original and unpredictable approach to his show. 2018 saw the release of his first book\, &quot\;SKYAIKU.&quot\; Creatively witty and intelligently silly\, this comedian/filmmaker continues to delght audiences near and far.</span></p>\n
LOCATION:The Renwick Mansion 901 Tremont Avenue Davenport\, IA 52803
UID:e.2843.13382
SEQUENCE:3
DTSTAMP:20260423T061514Z
URL:https://member.quadcitieschamber.com/events/details/tomfoolery-on-tremont-8-13382
END:VEVENT

END:VCALENDAR
