BEGIN:VCALENDAR
VERSION:2.0
PRODID:-//ChamberMaster//Event Calendar 2.0//EN
METHOD:PUBLISH
X-PUBLISHED-TTL:P3D
REFRESH-INTERVAL:P3D
CALSCALE:GREGORIAN
BEGIN:VEVENT
DTSTART:20190602T010000Z
DTEND:20190602T060000Z
X-MICROSOFT-CDO-ALLDAYEVENT:FALSE
SUMMARY:Tomfoolery On Tremont // Chris Schlichting with Special Guests
DESCRIPTION:Tomfoolery On Tremont 25 w/ Chris Schlichting and special guests! SAT . JUNE 1 . 8PM . HAPPY HOUR 7-8PM Chris Schlichting is the originator of Tomfoolery On Tremont and the only three-time headliner. Chris is also the star of Schlick News and Schlick Runs. Chris owns 8 cats.
X-ALT-DESC;FMTTYPE=text/html:Tomfoolery On Tremont 25 w/ Chris Schlichting and special guests! SAT . JUNE 1 . 8PM . HAPPY HOUR 7-8PM Chris Schlichting is the originator of Tomfoolery On Tremont and the only three-time headliner. Chris is also the star of Schlick News and Schlick Runs. Chris owns 8 cats.
LOCATION:The Renwick Mansion 901 Tremont Avenue Davenport\, IA 52803
UID:e.2843.15365
SEQUENCE:3
DTSTAMP:20260422T131631Z
URL:https://member.quadcitieschamber.com/events/details/tomfoolery-on-tremont-chris-schlichting-with-special-guests-15365
END:VEVENT

END:VCALENDAR
