BEGIN:VCALENDAR
VERSION:2.0
PRODID:-//ChamberMaster//Event Calendar 2.0//EN
METHOD:PUBLISH
X-PUBLISHED-TTL:P3D
REFRESH-INTERVAL:P3D
CALSCALE:GREGORIAN
BEGIN:VEVENT
DTSTART:20191125T020000Z
DTEND:20191125T050000Z
X-MICROSOFT-CDO-ALLDAYEVENT:FALSE
SUMMARY:Tomfoolery On Tremont // GREG WARREN
DESCRIPTION:TOT 38 w/ GREG WARREN & special guest comedians! Show @ 8pm/Doors @ 7pm . Happy Hour 7-8pm\n\n\n\nGreg Warren\, most recently seen on Late Night with Seth Meyers\, The Late Late Show and Comedy Central Presents\, has built a strong fan base with an act inspired by his Midwestern upbringing. His CDs\, Running Out of Time (Sept 2013) and One Star Wonder (June 2009) hit #3 and #6 respectively in iTunes Top Comedy Albums. Greg has performed as a finalist on BET's Coming to the Stage and on Country Music Television. He is a favorite on the nationally syndicated Bob & Tom Radio Show\, which led to touring theaters nationwide with The Bob & Tom All Stars Comedy Tour. He can also be heard daily on Sirius/XM Comedy\, he headlines comedy clubs across the country\, he has appeared in the independent films 23 Minutes to Sunrise and Marshall The Miracle Dog\, and Greg is a founding member of the St. Louis Sketch Week Players.
X-ALT-DESC;FMTTYPE=text/html:<span style="background-color:rgb(255\, 255\, 255)\; color:rgb(29\, 33\, 41)\; font-family:helvetica\,arial\,sans-serif\; font-size:14px">TOT 38 w/ GREG WARREN &amp\; special guest comedians! Show @ 8pm/Doors @ 7pm . Happy Hour 7-8pm</span><br />\n<br />\n<span style="background-color:rgb(255\, 255\, 255)\; color:rgb(29\, 33\, 41)\; font-family:helvetica\,arial\,sans-serif\; font-size:14px">Greg Warren\, most recently seen on Late Night with Seth Meyers\, The Late Late Show and Comedy Central Presents\, has built a strong fan base with an act inspired by his Midwestern upbringing. His CDs\, Running Out of Time (Sept 2013) and One Star Wonder (June 2009) hit #3 and #6 respectively in iTunes Top Comedy Albums. Greg has performed as a finalist on BET&rsquo\;s Coming to the Stage and on Country Music Television. He is a favorite on the nationally syndicated Bob &amp\; Tom Radio Show\, which led to touring theaters nationwide with The Bob &amp\; Tom All Stars Comedy Tour. He can also be heard daily on Sirius/XM Comedy\, he headlines comedy clubs across the country\, he has appeared in the independent films 23 Minutes to Sunrise and Marshall The Miracle Dog\, and Greg is a founding member of the St. Louis Sketch Week Players. </span>
LOCATION:The Renwick Mansion 901 Tremont Avenue Davenport\, IA 52803
UID:e.2843.17095
SEQUENCE:3
DTSTAMP:20260422T082815Z
URL:https://member.quadcitieschamber.com/events/details/tomfoolery-on-tremont-greg-warren-17095
END:VEVENT

END:VCALENDAR
