BEGIN:VCALENDAR
VERSION:2.0
PRODID:-//ChamberMaster//Event Calendar 2.0//EN
METHOD:PUBLISH
X-PUBLISHED-TTL:P3D
REFRESH-INTERVAL:P3D
CALSCALE:GREGORIAN
BEGIN:VEVENT
DTSTART:20190420T010000Z
DTEND:20190420T070000Z
X-MICROSOFT-CDO-ALLDAYEVENT:FALSE
SUMMARY:Tomfoolery On Tremont - Joe Kilgallon
DESCRIPTION:TOT 22 . April 19 . 8pm/doors @ 7pm . $10/in advance . $15/@ door . Happy Hour 7-8pm .\n\nFeaturing Joe Kilgallon . Special Guests\, Your Emcee Chris Schlichting\n\n\n\nJoe Kilgallon\, now residing in LA\, has performed all across America. Kilgallon has been a personal opener for stars such as Hannibal Buress\, Roy Wood Jr\, and Steve Byrne. After only a few short months in LA\, he became one of the quickest comedians to get passed at the world famous Laugh Factory in Hollywood\, and he has appeared on NBC Sports and TBS. His debut album\, Pay Attention\, opened #1 on the iTunes Comedy Charts and Top 10 on the BIllboard Comedy Charts. Kilgallon also produces "Comedians You Should Know LA"\, a weekly stand-up showcase at the Improv Lab in West Hollywood.
X-ALT-DESC;FMTTYPE=text/html:<span style="background-color:rgb(255\, 255\, 255)\; color:rgb(29\, 33\, 41)\; font-family:helvetica\,arial\,sans-serif\; font-size:14px">TOT 22 . April 19 . 8pm/doors @ 7pm . $10/in advance . $15/@ door . Happy Hour 7-8pm .<br />\nFeaturing Joe Kilgallon . Special Guests\, Your Emcee Chris Schlichting</span><br />\n<br />\n<span style="background-color:rgb(255\, 255\, 255)\; color:rgb(29\, 33\, 41)\; font-family:helvetica\,arial\,sans-serif\; font-size:14px">Joe Kilgallon\, now residing in LA\, has performed all across America. Kilgallon has been a personal opener for stars such as Hannibal Buress\, Roy Wood Jr\, and Steve Byrne. After only a few short months in LA\, he became one of the quickest comedians to get passed at the world famous Laugh Factory in Hollywood\, and he has appeared on NBC Sports and TBS. His debut album\, Pay Attention\, opened #1 on the iTunes Comedy Charts and Top 10 on the BIllboard Comedy Charts. Kilgallon also produces &ldquo\;Comedians You Should Know LA&rdquo\;\, a weekly stand-up showcase at the Improv Lab in West Hollywood. </span>
LOCATION:The Renwick Mansion 901 Tremont Avenue Davenport\, IA 52803
UID:e.2843.13802
SEQUENCE:3
DTSTAMP:20260422T163755Z
URL:https://member.quadcitieschamber.com/events/details/tomfoolery-on-tremont-joe-kilgallon-13802
END:VEVENT

END:VCALENDAR
