BEGIN:VCALENDAR
VERSION:2.0
PRODID:-//ChamberMaster//Event Calendar 2.0//EN
METHOD:PUBLISH
X-PUBLISHED-TTL:P3D
REFRESH-INTERVAL:P3D
CALSCALE:GREGORIAN
BEGIN:VEVENT
DTSTART:20190713T010000Z
DTEND:20190713T070000Z
X-MICROSOFT-CDO-ALLDAYEVENT:FALSE
SUMMARY:Tomfoolery On Tremont // John Bush
DESCRIPTION:Tomfoolery On Tremont 27 with JOHN BUSH and special guests!\n\n8pm/Doors at 7pm . $10 in advance . Happy Hour 7-8pm.\n\n\n\nJohn Bush recently appeared on HULU's Triumph's Election Special 2016\, AXS TV's Gotham Comedy Live\, and FOX NEWS Channel's Red Eye with Tom Shillue. As an actor he has been seen on TV's Spin City\, Law and Order: Special Victims Unit and in the film The Thomas Crown Affair. John has performed stand-up comedy on HBO\, Comedy Central\, as well as sketches on Late Night with Conan O'Brien. John tours as a stand-up comedian specializing in events for companies and association meetings.
X-ALT-DESC;FMTTYPE=text/html:<span style="background-color:rgb(255\, 255\, 255)\; color:rgb(29\, 33\, 41)\; font-family:helvetica\,arial\,sans-serif\; font-size:14px">Tomfoolery On Tremont 27 with JOHN BUSH and special guests!</span><br />\n<span style="background-color:rgb(255\, 255\, 255)\; color:rgb(29\, 33\, 41)\; font-family:helvetica\,arial\,sans-serif\; font-size:14px">8pm/Doors at 7pm . $10 in advance . Happy Hour 7-8pm.</span><br />\n<br />\n<span style="background-color:rgb(255\, 255\, 255)\; color:rgb(29\, 33\, 41)\; font-family:helvetica\,arial\,sans-serif\; font-size:14px">John Bush recently appeared on HULU&rsquo\;s Triumph&rsquo\;s Election Special 2016\, AXS TV&rsquo\;s Gotham Comedy Live\, and FOX NEWS Channel&rsquo\;s Red Eye with Tom Shillue. As an actor he has been seen on TV&rsquo\;s Spin City\, Law and Order: Special Victims Unit and in the film The Thomas Crown Affair. John has performed stand-up comedy on HBO\, Comedy Central\, as well as sketches on Late Night with Conan O&rsquo\;Brien. John tours as a stand-up comedian specializing in events for companies and association meetings.</span>
LOCATION:The Renwick Mansion 901 Tremont Avenue Davenport\, IA 52803
UID:e.2843.15428
SEQUENCE:3
DTSTAMP:20260422T113213Z
URL:https://member.quadcitieschamber.com/events/details/tomfoolery-on-tremont-john-bush-15428
END:VEVENT

END:VCALENDAR
