BEGIN:VCALENDAR
VERSION:2.0
PRODID:-//ChamberMaster//Event Calendar 2.0//EN
METHOD:PUBLISH
X-PUBLISHED-TTL:P3D
REFRESH-INTERVAL:P3D
CALSCALE:GREGORIAN
BEGIN:VEVENT
DTSTART:20200127T020000Z
DTEND:20200127T043000Z
X-MICROSOFT-CDO-ALLDAYEVENT:FALSE
SUMMARY:Tomfoolery On Tremont // KEVIN BOZEMAN & Special Guests
DESCRIPTION:Tomfoolery On Tremont // KEVIN BOZEMAN // Jan 26 // 8 pm\n\nHappy Hour 2 for 1's from 7-8 pm // $15 in advance\n\n\n\nWith over 30 million views from Dry Bar Comedy\, Kevin Bozeman has turned into a stand up comedy fan favorite. Parenting\, marriage\, social issues\, nothing is scared from Kevin's hilarious truths. Kevin has also been seen on Comedy Central\, Fox\, CBS and NBC's Last Comic Standing. You can also listen to Kevin on his podcast\, The Ball Hog\, available on all podcasting sites. \n\n\n\nFind the event and tickets here: https://www.facebook.com/events/504152723642432/
X-ALT-DESC;FMTTYPE=text/html:<span style="background-color:rgb(255\, 255\, 255)\; color:rgb(29\, 33\, 41)\; font-family:helvetica\,arial\,sans-serif\; font-size:14px">Tomfoolery On Tremont // KEVIN BOZEMAN // Jan 26 // 8 pm</span><br />\n<span style="background-color:rgb(255\, 255\, 255)\; color:rgb(29\, 33\, 41)\; font-family:helvetica\,arial\,sans-serif\; font-size:14px">Happy Hour 2 for 1&#39\;s from 7-8 pm // $15 in advance</span><br />\n<br />\n<span style="background-color:rgb(255\, 255\, 255)\; color:rgb(29\, 33\, 41)\; font-family:helvetica\,arial\,sans-serif\; font-size:14px">With over 30 million views from Dry Bar Comedy\, Kevin Bozeman has turned into a stand up comedy fan favorite. Parenting\, marriage\, social issues\, nothing is scared from Kevin&#39\;s hilarious truths. Kevin has also been seen on Comedy Central\, Fox\, CBS and NBC&#39\;s Last Comic Standing. You can also listen to Kevin on his podcast\, The Ball Hog\, available on all podcasting sites. </span><br />\n<br />\nFind the event and tickets here:&nbsp\;<a href="https://www.facebook.com/events/504152723642432/">https://www.facebook.com/events/504152723642432/</a>
LOCATION:The Renwick Mansion 901 Tremont Avenue Davenport\, IA 52803
UID:e.2843.17469
SEQUENCE:3
DTSTAMP:20260422T015258Z
URL:https://member.quadcitieschamber.com/events/details/tomfoolery-on-tremont-kevin-bozeman-special-guests-17469
END:VEVENT

END:VCALENDAR
