BEGIN:VCALENDAR
VERSION:2.0
PRODID:-//ChamberMaster//Event Calendar 2.0//EN
METHOD:PUBLISH
X-PUBLISHED-TTL:P3D
REFRESH-INTERVAL:P3D
CALSCALE:GREGORIAN
BEGIN:VEVENT
DTSTART:20190527T010000Z
DTEND:20190527T060000Z
X-MICROSOFT-CDO-ALLDAYEVENT:FALSE
SUMMARY:Tomfoolery On Tremont // Kristen Toomey & Special Guests
DESCRIPTION:Tomfoolery On Tremont 24 w/ Kristen Toomey and special guests! SUN . MAY 26 . 8PM . HAPPY HOUR 7-8PM Kristen Toomey was a founding member of the all-female Hoo-Ha Comedy troupe and the first producer of Comedians You Should Know. She's performed at numerous festivals\, has been a guest on journalist and author Dan Savage's 'Savage Love Life' and is a regular on the late night comedy show of 'Man of the People with Pat Tomasulo'. Kristen has appeared on the show 'Chicago Med'\, you can hear her on 'Kevin Hart's LOL Network'\, WGN Radio 720\, & NPR's The 21st.
X-ALT-DESC;FMTTYPE=text/html:Tomfoolery On Tremont 24 w/ Kristen Toomey and special guests! SUN . MAY 26 . 8PM . HAPPY HOUR 7-8PM Kristen Toomey was a founding member of the all-female Hoo-Ha Comedy troupe and the first producer of Comedians You Should Know. She&rsquo\;s performed at numerous festivals\, has been a guest on journalist and author Dan Savage&rsquo\;s &lsquo\;Savage Love Life&rsquo\; and is a regular on the late night comedy show of &lsquo\;Man of the People with Pat Tomasulo&rsquo\;. Kristen has appeared on the show &lsquo\;Chicago Med&rsquo\;\, you can hear her on &lsquo\;Kevin Hart&rsquo\;s LOL Network&rsquo\;\, WGN Radio 720\, &amp\; NPR&rsquo\;s The 21st.
LOCATION:The Renwick Mansion 901 Tremont Avenue Davenport\, IA 52803
UID:e.2843.15363
SEQUENCE:3
DTSTAMP:20260422T145705Z
URL:https://member.quadcitieschamber.com/events/details/tomfoolery-on-tremont-kristen-toomey-special-guests-15363
END:VEVENT

END:VCALENDAR
