BEGIN:VCALENDAR
VERSION:2.0
PRODID:-//ChamberMaster//Event Calendar 2.0//EN
METHOD:PUBLISH
X-PUBLISHED-TTL:P3D
REFRESH-INTERVAL:P3D
CALSCALE:GREGORIAN
BEGIN:VEVENT
DTSTART:20190729T010000Z
DTEND:20190729T070000Z
X-MICROSOFT-CDO-ALLDAYEVENT:FALSE
SUMMARY:Tomfoolery On Tremont // PAT GODWIN and Special Guests
DESCRIPTION:TOT 29 w/ PAT GODWIN and Special Guests! Doors at 7pm\, Show at 8pm . Happy Hour 7-8pm.\n\n\n\nPat has blossomed into one of the most clever comedians and prolific\, award-winning comedy song writers in the business. He's appeared on every top morning show you can think of\, worked six years as a part of Philadelphia's Morning Zoo\, three years for the Bob and Tom Show\, and was a frequent guest and contributor to both Howard Stern's radio and TV shows. He has also been featured on NBC's last comic standing and he has been on every major radio morning show in the country.
X-ALT-DESC;FMTTYPE=text/html:<span style="background-color:rgb(255\, 255\, 255)\; color:rgb(29\, 33\, 41)\; font-family:helvetica\,arial\,sans-serif\; font-size:14px">TOT 29 w/ PAT GODWIN and Special Guests! Doors at 7pm\, Show at 8pm . Happy Hour 7-8pm.</span><br />\n<br />\n<span style="background-color:rgb(255\, 255\, 255)\; color:rgb(29\, 33\, 41)\; font-family:helvetica\,arial\,sans-serif\; font-size:14px">Pat has blossomed into one of the most clever comedians and prolific\, award-winning comedy song writers in the business. He&rsquo\;s appeared on every top morning show you can think of\, worked six years as a part of Philadelphia&rsquo\;s Morning Zoo\, three years for the Bob and Tom Show\, and was a frequent guest and contributor to both Howard Stern&lsquo\;s radio and TV shows. He has also been featured on NBC&rsquo\;s last comic standing and he has been on every major radio morning show in the country.</span>
LOCATION:The Renwick Mansion 901 Tremont Avenue Davenport\, IA 52803
UID:e.2843.15430
SEQUENCE:3
DTSTAMP:20260422T113751Z
URL:https://member.quadcitieschamber.com/events/details/tomfoolery-on-tremont-pat-godwin-and-special-guests-15430
END:VEVENT

END:VCALENDAR
