BEGIN:VCALENDAR
VERSION:2.0
PRODID:-//ChamberMaster//Event Calendar 2.0//EN
METHOD:PUBLISH
X-PUBLISHED-TTL:P3D
REFRESH-INTERVAL:P3D
CALSCALE:GREGORIAN
BEGIN:VEVENT
DTSTART:20190414T010000Z
DTEND:20190414T070000Z
X-MICROSOFT-CDO-ALLDAYEVENT:FALSE
SUMMARY:Tomfoolery On Tremont - Stewart Huff
DESCRIPTION:TOT 21 . April 13 . 8pm/doors @ 7pm . $10/in advance . $15/door . Happy Hour 7-8pm .\n\nFeaturing Stewart Huff . Special Guests . Your Emcee Chris Schlichting\n\n\n\nStewart Huff has been performing comedy for over 20 years. Now residing in Atlanta\, GA\, Huff has performed nationally and internationally\, including the Improv in Los Angeles and New York\, the Punchline in Atlanta\, and the Funny Bone in Omaha\, as well as countless others. He was also the 2016 Critics Choice of the Best Comedy at the Orlando Fringe Festival\, and as a finalist in the 2006 Boston Comedy Festival\, Huff was also invited to perform in the HBO Las Vegas Festival. Huff has also been featured in the documentary "Road Comics: Big Work on Small Stages".
X-ALT-DESC;FMTTYPE=text/html:<span style="background-color:rgb(255\, 255\, 255)\; color:rgb(29\, 33\, 41)\; font-family:helvetica\,arial\,sans-serif\; font-size:14px">TOT 21 . April 13 . 8pm/doors @ 7pm . $10/in advance . $15/door . Happy Hour 7-8pm .<br />\nFeaturing Stewart Huff . Special Guests . Your Emcee Chris Schlichting</span><br />\n<br />\n<span style="background-color:rgb(255\, 255\, 255)\; color:rgb(29\, 33\, 41)\; font-family:helvetica\,arial\,sans-serif\; font-size:14px">Stewart Huff has been performing comedy for over 20 years. Now residing in Atlanta\, GA\, Huff has performed nationally and internationally\, including the Improv in Los Angeles and New York\, the Punchline in Atlanta\, and the Funny Bone in Omaha\, as well as countless others. He was also the 2016 Critics Choice of the Best Comedy at the Orlando Fringe Festival\, and as a finalist in the 2006 Boston Comedy Festival\, Huff was also invited to perform in the HBO Las Vegas Festival. Huff has also been featured in the documentary &ldquo\;Road Comics: Big Work on Small Stages&rdquo\;. </span>
LOCATION:The Renwick Mansion 901 Tremont Avenue Davenport\, IA 52803
UID:e.2843.13801
SEQUENCE:3
DTSTAMP:20260422T163755Z
URL:https://member.quadcitieschamber.com/events/details/tomfoolery-on-tremont-stewart-huff-13801
END:VEVENT

END:VCALENDAR
