BEGIN:VCALENDAR
VERSION:2.0
PRODID:-//ChamberMaster//Event Calendar 2.0//EN
METHOD:PUBLISH
X-PUBLISHED-TTL:P3D
REFRESH-INTERVAL:P3D
CALSCALE:GREGORIAN
BEGIN:VEVENT
DTSTART:20190629T010000Z
DTEND:20190629T060000Z
X-MICROSOFT-CDO-ALLDAYEVENT:FALSE
SUMMARY:Tomfoolery On Tremont // Tommy Ryman with Special Guests
DESCRIPTION:Tomfoolery On Tremont 26 w/ Tommy Ryman and special guests! SUN . JULY 28 . 8PM . HAPPY HOUR 7-8PM Tommy Ryman: semifinalist on NBC's 'Last Comic Standing'\, named 'Best of the Midwest' at Gilda's Laugh Fest\, invited to be on Nickelodeon's 'NickMom Night Out'\, and has a full comedy special on Dry Bar Comedy.
X-ALT-DESC;FMTTYPE=text/html:Tomfoolery On Tremont 26 w/ Tommy Ryman and special guests! SUN . JULY 28 . 8PM . HAPPY HOUR 7-8PM Tommy Ryman: semifinalist on NBC&rsquo\;s &lsquo\;Last Comic Standing&rsquo\;\, named &lsquo\;Best of the Midwest&rsquo\; at Gilda&rsquo\;s Laugh Fest\, invited to be on Nickelodeon&rsquo\;s &lsquo\;NickMom Night Out&rsquo\;\, and has a full comedy special on Dry Bar Comedy.
LOCATION:The Renwick Mansion 901 Tremont Avenue Davenport\, IA 52803
UID:e.2843.15366
SEQUENCE:3
DTSTAMP:20260422T131632Z
URL:https://member.quadcitieschamber.com/events/details/tomfoolery-on-tremont-tommy-ryman-with-special-guests-15366
END:VEVENT

END:VCALENDAR
