BEGIN:VCALENDAR
VERSION:2.0
PRODID:-//ChamberMaster//Event Calendar 2.0//EN
METHOD:PUBLISH
X-PUBLISHED-TTL:P3D
REFRESH-INTERVAL:P3D
CALSCALE:GREGORIAN
BEGIN:VEVENT
DTSTART;VALUE=DATE:20200129
DTEND;VALUE=DATE:20200130
TRANSP:TRANSPARENT
X-MICROSOFT-CDO-ALLDAYEVENT:TRUE
SUMMARY:Tomfoolery On Tremont // ZACH MARTINA & Special Guests
DESCRIPTION:TOT 49//Zach Martina & Special Guests March 1 @ 8 PM :: Happy Hour 7-8 PM\n\n\n\nThus far\, life has exceeded the expectations of Zach Martina. He certainly never thought some stranger would be reading to find out more about him but here we are. Here's what you need to know   He loves his wife\, his daughters are a constant source of inspiration\, and his hair is real. Also worth noting - he's not angry\, he's just passionate about the inane topics he chooses to ponder. HE'S NOT SCREAMING\; HE'S MAKING SURE YOU HEAR HIM!!!\n\n\n\nZach brings his big energy to crowds across America delivering dark jokes in a delightful manner while pointing the finger of blame at everyone except himself. You've heard him on Dumb People Town\, The Bonfire\, and his debut album "Skunkman" spinning regularly on Sirius/XM. He's performed as part of Rock on the Range & the Best of the Midwest at Gilda's Laughfest (among others) and has shared the stage with Rory Scovel\, Big Jay Oakerson\, the Sklar Brothers\, Chad Daniels & Kyle Kinane.\n\n\n\nHe hopes you like him  then maybe more people will like him and those closest to him will stop calling comedy his "hobby".
X-ALT-DESC;FMTTYPE=text/html:<span style="background-color:rgb(255\, 255\, 255)\; color:rgb(29\, 33\, 41)\; font-family:helvetica\,arial\,sans-serif\; font-size:14px">TOT 49//Zach Martina &amp\; Special Guests March 1 @ 8 PM :: Happy Hour 7-8 PM</span><br />\n<br />\n<span style="background-color:rgb(255\, 255\, 255)\; color:rgb(29\, 33\, 41)\; font-family:helvetica\,arial\,sans-serif\; font-size:14px">Thus far\, life has exceeded the expectations of Zach Martina. He certainly never thought some stranger would be reading to find out more about him but here we are. Here&rsquo\;s what you need to know &ndash\; He loves his wife\, his daughters are a constant source of inspiration\, and his hair is real. Also worth noting - he&rsquo\;s not angry\, he&rsquo\;s just passionate about the inane topics he chooses to ponder. HE&rsquo\;S NOT SCREAMING\; HE&rsquo\;S MAKING SURE YOU HEAR HIM!!!</span><br />\n<br />\n<span style="background-color:rgb(255\, 255\, 255)\; color:rgb(29\, 33\, 41)\; font-family:helvetica\,arial\,sans-serif\; font-size:14px">Zach brings his big energy to crowds across America delivering dark jokes in a delightful manner while pointing the finger of blame at everyone except himself. You&rsquo\;ve heard him on Dumb People Town\, The Bonfire\, and his debut album &ldquo\;Skunkman&rdquo\; spinning regularly on Sirius/XM. He&rsquo\;s performed as part of Rock on the Range &amp\; the Best of the Midwest at Gilda&rsquo\;s Laughfest (among others) and has shared the stage with Rory Scovel\, Big Jay Oakerson\, the Sklar Brothers\, Chad Daniels &amp\; Kyle Kinane.</span><br />\n<br />\n<span style="background-color:rgb(255\, 255\, 255)\; color:rgb(29\, 33\, 41)\; font-family:helvetica\,arial\,sans-serif\; font-size:14px">He hopes you like him &ndash\;then maybe more people will like him and those closest to him will stop calling comedy his &ldquo\;hobby&rdquo\;.</span>
LOCATION:The Renwick Mansion 901 Tremont Avenue Davenport\, IA 52803
UID:e.2843.17510
SEQUENCE:3
DTSTAMP:20260422T015502Z
URL:https://member.quadcitieschamber.com/events/details/tomfoolery-on-tremont-zach-martina-special-guests-17510
END:VEVENT

END:VCALENDAR
