BEGIN:VCALENDAR
VERSION:2.0
PRODID:-//ChamberMaster//Event Calendar 2.0//EN
METHOD:PUBLISH
X-PUBLISHED-TTL:P3D
REFRESH-INTERVAL:P3D
CALSCALE:GREGORIAN
BEGIN:VEVENT
DTSTART:20090924T050000Z
DTEND:20090924T050000Z
X-MICROSOFT-CDO-ALLDAYEVENT:FALSE
SUMMARY:Transportation Forum - PAY AT DOOR
DESCRIPTION:Transportation Forum - PAY AT DOOR
X-ALT-DESC;FMTTYPE=text/html:Transportation Forum - PAY AT DOOR
LOCATION:
UID:e.2843.3763
SEQUENCE:3
DTSTAMP:20260424T061355Z
URL:https://member.quadcitieschamber.com/events/details/transportation-forum-pay-at-door-09-24-2009-3763
END:VEVENT

END:VCALENDAR
