BEGIN:VCALENDAR
VERSION:2.0
PRODID:-//ChamberMaster//Event Calendar 2.0//EN
METHOD:PUBLISH
X-PUBLISHED-TTL:P3D
REFRESH-INTERVAL:P3D
CALSCALE:GREGORIAN
BEGIN:VEVENT
DTSTART;VALUE=DATE:20190429
DTEND;VALUE=DATE:20190506
TRANSP:TRANSPARENT
X-MICROSOFT-CDO-ALLDAYEVENT:TRUE
SUMMARY:Travel Matters Contest Submissions
DESCRIPTION:Travel matters\, and it improves Muscatine\, IA in ways that have a wide-reaching impact on local residents and visitors alike. Travel has the power to strengthen families\, foster hometown pride\, and build bridges that connect us with one another. This is vitally important now more than ever\, so we're celebrating this year with a Travel Matters Contest. Tell us in 100 words or less why travel matters to you for a chance to win an overnight stay at The Merrill Hotel & Conference Center!\n\n\n\nHERE'S HOW YOU CAN WIN AN OVERNIGHT STAY\n\n\n\nShow your support of the travel industry by sharing why Travel Matters to you.\n\n1. April 29th through May 5th\, 2019 click to submit your story in 100 words or less.\n\n2. May 6th through May 11th\, 2019 we'll post all the stories to facebook for online voting.\n\n3. Share our contest photo album with friends and family to encourage a vote by way of a like or reaction.\n\n4. Stay tuned the week of May 13th\, 2019 to find out who won the overnight stay with the most likes and reactions on their contest entry.\n\n\n\nClick to learn more or submit your story!\n\nSubmission Deadline: Sunday\, May 5th
X-ALT-DESC;FMTTYPE=text/html:<span style="color:rgb(29\, 33\, 41)\; font-family:helvetica\,arial\,sans-serif\; font-size:14px">Travel matters\, and it improves Muscatine\, IA in ways that have a wide-reaching impact on local residents and visitors alike. Travel has the power to strengthen families\, foster hometown pride\, and build bridges that connect us with one another. This is vitally important now more than ever\, so we&#39\;re celebrating this year with a Travel Matters Contest. Tell us in 100 words or less why travel matters to you for a chance to win an overnight stay at The Merrill Hotel &amp\; Conference Center!</span><br />\n<br />\n<span style="color:rgb(29\, 33\, 41)\; font-family:helvetica\,arial\,sans-serif\; font-size:14px">HERE&#39\;S HOW YOU CAN WIN AN OVERNIGHT STAY</span><br />\n<br />\n<span style="color:rgb(29\, 33\, 41)\; font-family:helvetica\,arial\,sans-serif\; font-size:14px">Show your support of the travel industry by sharing why Travel Matters to you.</span><br />\n<span style="color:rgb(29\, 33\, 41)\; font-family:helvetica\,arial\,sans-serif\; font-size:14px">1.&nbsp\;<a href="https://www.themerrill.com/travel-and-tourism-week.htm" target="_blank">April 29th through May 5th\, 2019 click to submit your story in 100 words or less.</a></span><br />\n<span style="color:rgb(29\, 33\, 41)\; font-family:helvetica\,arial\,sans-serif\; font-size:14px">2.&nbsp\;<a href="https://www.facebook.com/TheMerrillHotel/" target="_blank">May 6th through May 11th\, 2019 we&#39\;ll post all the stories to facebook for online voting.</a></span><br />\n<span style="color:rgb(29\, 33\, 41)\; font-family:helvetica\,arial\,sans-serif\; font-size:14px">3. Share our contest photo album with friends and family to encourage a vote by way of a like or reaction.</span><br />\n<span style="color:rgb(29\, 33\, 41)\; font-family:helvetica\,arial\,sans-serif\; font-size:14px">4. Stay tuned the week of May 13th\, 2019 to find out who won the overnight stay with the most likes and reactions on their contest entry.</span><br />\n<br />\n<a href="https://www.themerrill.com/travel-and-tourism-week.htm" target="_blank"><span style="color:rgb(29\, 33\, 41)\; font-family:helvetica\,arial\,sans-serif\; font-size:14px">Click to learn more or submit your story!</span></a><br />\n<span style="color:rgb(29\, 33\, 41)\; font-family:helvetica\,arial\,sans-serif\; font-size:14px">Submission Deadline: Sunday\, May 5th</span>
LOCATION:Online
UID:e.2843.14341
SEQUENCE:3
DTSTAMP:20260422T145214Z
URL:https://member.quadcitieschamber.com/events/details/travel-matters-contest-submissions-14341
END:VEVENT

END:VCALENDAR
