BEGIN:VCALENDAR
VERSION:2.0
PRODID:-//ChamberMaster//Event Calendar 2.0//EN
METHOD:PUBLISH
X-PUBLISHED-TTL:P3D
REFRESH-INTERVAL:P3D
CALSCALE:GREGORIAN
BEGIN:VEVENT
DTSTART:20180510T220000Z
DTEND:20180511T000000Z
X-MICROSOFT-CDO-ALLDAYEVENT:FALSE
SUMMARY:Travel Then & Now: Social benefiting the Quad City Lodging Association
DESCRIPTION:Tourism generates an $800 Million Economic Impact Annually for the Quad Cities. Come network and support tourism during National Tour and Travel Week. The event will include a silent auction\, wine pull\, hors d'oeuvres\, cash bar and signature drink. All proceeds support the Quad Cities Lodging Association (QCLA). QCLA raises funds to support our local communities\, provide college scholarships and fund local events in collaboration with the Quad Cities Convention & Visitors Bureau.
X-ALT-DESC;FMTTYPE=text/html:Tourism generates an $800 Million Economic Impact Annually for the Quad Cities. Come network and support tourism during National Tour and Travel Week. The event will include a silent auction\, wine pull\, hors d&#39\;oeuvres\, cash bar and signature drink. All proceeds support the Quad Cities Lodging Association (QCLA). QCLA raises funds to support our local communities\, provide college scholarships and fund local events in collaboration with the Quad Cities Convention &amp\; Visitors Bureau.
LOCATION:The J-Bar - The Holiday Inn & Suites 4215 Elmore Avenue Davenport\, IA 52807
UID:e.2843.12149
SEQUENCE:3
DTSTAMP:20260423T111736Z
URL:https://member.quadcitieschamber.com/events/details/travel-then-now-social-benefiting-the-quad-city-lodging-association-12149
END:VEVENT

END:VCALENDAR
