BEGIN:VCALENDAR
VERSION:2.0
PRODID:-//ChamberMaster//Event Calendar 2.0//EN
METHOD:PUBLISH
X-PUBLISHED-TTL:P3D
REFRESH-INTERVAL:P3D
CALSCALE:GREGORIAN
BEGIN:VEVENT
DTSTART:20130419T213000Z
DTEND:20130419T220000Z
X-MICROSOFT-CDO-ALLDAYEVENT:FALSE
SUMMARY:TravelingEvent.Com Ribbon Cutting
DESCRIPTION:Please help welcome and celebrate new member and new business TravelingEvent.Com with a ribbon cutting on Friday\, April 19th at 4:30pm.  The Ribbon Cutting will be held at The Rock Reception located at 302 1st Street in Coal Valley. Traveling Event is available for any event\, party or special occasion. It’s your personal mobile party\, Sports Bar\, and VIP & Hospitality Suite. For more information\, please visit www.travelingevent.com.
X-ALT-DESC;FMTTYPE=text/html:<P style="MARGIN: 0in 0in 0pt" class=MsoNormal><FONT face=Calibri>Please help welcome and celebrate new member and new business TravelingEvent.Com with a ribbon cutting on <B style="mso-bidi-font-weight: normal">Friday\, April 19<SUP>th</SUP> at 4:30pm</B>.<SPAN style="mso-spacerun: yes">&nbsp\; </SPAN>The Ribbon Cutting will be held at The Rock Reception located at 302 1<SUP>st</SUP> Street in Coal Valley.<?xml:namespace prefix = o ns = "urn:schemas-microsoft-com:office:office" /><o:p></o:p></FONT></P><P style="MARGIN: 0in 0in 0pt" class=MsoNormal><o:p><FONT face=Calibri>&nbsp\;</FONT></o:p></P><P style="MARGIN: 0in 0in 0pt" class=MsoNormal><FONT face=Calibri>Traveling Event is available for any event\, party or special occasion. It’s your personal mobile party\, Sports Bar\, and VIP &amp\; Hospitality Suite.<o:p></o:p></FONT></P><P style="MARGIN: 0in 0in 0pt" class=MsoNormal><o:p><FONT face=Calibri>&nbsp\;</FONT></o:p></P><P style="MARGIN: 0in 0in 0pt" class=MsoNormal><FONT face=Calibri>For more information\, please visit </FONT><A href="http://www.travelingevent.com">www.travelingevent.com</A><FONT face=Calibri>.<o:p></o:p></FONT></P><DIV style="FONT-FAMILY: Arial">&nbsp\;</DIV>
LOCATION:The Rock Reception302 1st Street Coal Valley\, IL
UID:e.2843.547
SEQUENCE:3
DTSTAMP:20260421T121845Z
URL:https://member.quadcitieschamber.com/events/details/travelingevent-com-ribbon-cutting-04-19-2013-547
END:VEVENT

END:VCALENDAR
