BEGIN:VCALENDAR
VERSION:2.0
PRODID:-//ChamberMaster//Event Calendar 2.0//EN
METHOD:PUBLISH
X-PUBLISHED-TTL:P3D
REFRESH-INTERVAL:P3D
CALSCALE:GREGORIAN
BEGIN:VEVENT
DTSTART:20090301T060000Z
DTEND:20090701T050000Z
X-MICROSOFT-CDO-ALLDAYEVENT:FALSE
SUMMARY:TRC 2009
DESCRIPTION:TRC 2009
X-ALT-DESC;FMTTYPE=text/html:TRC 2009
LOCATION:
UID:e.2843.4142
SEQUENCE:3
DTSTAMP:20260424T060411Z
URL:https://member.quadcitieschamber.com/events/details/trc-2009-03-01-2009-4142
END:VEVENT

END:VCALENDAR
