BEGIN:VCALENDAR
VERSION:2.0
PRODID:-//ChamberMaster//Event Calendar 2.0//EN
METHOD:PUBLISH
X-PUBLISHED-TTL:P3D
REFRESH-INTERVAL:P3D
CALSCALE:GREGORIAN
BEGIN:VEVENT
DTSTART:20130815T173000Z
DTEND:20130815T180000Z
X-MICROSOFT-CDO-ALLDAYEVENT:FALSE
SUMMARY:Tree of Life Chiropractic Ribbon Cutting
DESCRIPTION:Please join Tree of Life Chiropractic in celebrating the grand re-opening of their chiropractic office on Thursday\, August 15th at 12:30 p.m. - Located at 1804 3rd Ave. (across the street from CBS4)   Tree of Life has recently renovated their office as well as introduced new technologies and flow patterns. Tree of Life is a specialized area of chiropractic utilizing a specific upper cervical technique to reduce structural stress from the body.  For more information\, please visit www.treeoflifechiropractic.net
X-ALT-DESC;FMTTYPE=text/html:<FONT face=Calibri><P style="MARGIN: 0in 0in 0pt" class=MsoNormal>Please join Tree of Life Chiropractic in celebrating the grand re-opening of their chiropractic office on <B style="mso-bidi-font-weight: normal">Thursday\, August 15<SUP>th</SUP> at 12:30 p.m. -</B>&nbsp\;Located at 1804 3<SUP>rd</SUP> Ave. (across the street from CBS4)<SPAN style="mso-spacerun: yes">&nbsp\; </SPAN><?xml:namespace prefix = o ns = "urn:schemas-microsoft-com:office:office" /><o:p></o:p></P><P style="MARGIN: 0in 0in 0pt" class=MsoNormal><o:p>&nbsp\;</o:p></P><P style="MARGIN: 0in 0in 0pt" class=MsoNormal>Tree of Life has recently renovated their office as well as introduced new technologies and flow patterns. Tree of Life is a specialized area of chiropractic utilizing a specific upper cervical technique to reduce structural stress from the body. <o:p></o:p></P><P style="MARGIN: 0in 0in 0pt" class=MsoNormal><o:p>&nbsp\;</o:p></P><P style="MARGIN: 0in 0in 0pt" class=MsoNormal>For more information\, please visit <A href="http://www.treeoflifechiropractic.net"><FONT face="Times New Roman">www.treeoflifechiropractic.net</FONT></A> <o:p></o:p></P><P style="MARGIN: 0in 0in 0pt" class=MsoNormal></FONT></P>
LOCATION:Tree of Life Chiropractic\, Inc.1804 Third Avenue Rock Island\, IL 61201
UID:e.2843.646
SEQUENCE:3
DTSTAMP:20260421T183945Z
URL:https://member.quadcitieschamber.com/events/details/tree-of-life-chiropractic-ribbon-cutting-08-15-2013-646
END:VEVENT

END:VCALENDAR
