BEGIN:VCALENDAR
VERSION:2.0
PRODID:-//ChamberMaster//Event Calendar 2.0//EN
METHOD:PUBLISH
X-PUBLISHED-TTL:P3D
REFRESH-INTERVAL:P3D
CALSCALE:GREGORIAN
BEGIN:VEVENT
DTSTART:20140617T171500Z
DTEND:20140617T180000Z
X-MICROSOFT-CDO-ALLDAYEVENT:FALSE
SUMMARY:Tri-Med Health and Wellness Ribbon Cutting
DESCRIPTION:Tri-Med Health & Wellness\, 4915 Utica Ridge Road Davenport\, IA 52807\, will host a ribbon cutting ceremony on Tuesday\, June 17th at 12:15pm\; followed by an open house from 5:00 p.m. – 7:00 p.m.  http://mapq.st/1l8UpnU.   Tri-Med provides a unique fitness & wellness model of integrated healthcare.  They focus on acute and repetitive injuries (carpal tunnel\, TMJ\, etc.) athletic injuries\, worker’s comp.\, auto accidents and more.  Tri-Med also provides personalized and group fitness training as well.  The variety of services allows Tri-Med to bridge the gap between pain and performance.   For more information\, please follow Tri-Med Health & Wellness on Facebook.
X-ALT-DESC;FMTTYPE=text/html:<FONT face=Calibri><P style="MARGIN: 0in 0in 0pt" class=MsoNormal></P><P></FONT></P><FONT face=Calibri><?xml:namespace prefix = o ns = "urn:schemas-microsoft-com:office:office" /><o:p><P style="MARGIN: 0in 0in 0pt" class=MsoNormal>Tri-Med Health &amp\; Wellness\, 4915 Utica Ridge Road Davenport\, IA 52807\, will host a ribbon cutting ceremony on Tuesday\, June 17<SUP>th</SUP> at 12:15pm\; followed by an open house from 5:00 p.m. – 7:00 p.m.<SPAN style="mso-spacerun: yes">&nbsp\; </SPAN><A href="http://mapq.st/1l8UpnU"><FONT color=#0000ff face="Times New Roman">http://mapq.st/1l8UpnU</FONT></A>.<SPAN style="mso-spacerun: yes">&nbsp\; </SPAN><o:p></o:p></P><P style="MARGIN: 0in 0in 0pt" class=MsoNormal><o:p>&nbsp\;</o:p></P><P style="MARGIN: 0in 0in 0pt" class=MsoNormal>Tri-Med provides a unique fitness &amp\; wellness model of integrated healthcare.<SPAN style="mso-spacerun: yes">&nbsp\; </SPAN>They focus on acute and repetitive injuries (carpal tunnel\, TMJ\, etc.) athletic injuries\, worker’s comp.\, auto accidents and more.<SPAN style="mso-spacerun: yes">&nbsp\; </SPAN>Tri-Med also provides personalized and group fitness training as well.<SPAN style="mso-spacerun: yes">&nbsp\; </SPAN>The variety of services allows Tri-Med to bridge the gap between pain and performance.<SPAN style="mso-spacerun: yes">&nbsp\; </SPAN><o:p></o:p></P><P style="MARGIN: 0in 0in 0pt" class=MsoNormal><o:p>&nbsp\;</o:p></P><P style="MARGIN: 0in 0in 0pt" class=MsoNormal>For more information\, please follow Tri-Med Health &amp\; Wellness on Facebook.<SPAN style="mso-spacerun: yes">&nbsp\; </SPAN><o:p></o:p></P><P style="MARGIN: 0in 0in 0pt" class=MsoNormal></o:p>&nbsp\;</P></FONT>
LOCATION:Tri-Med Health & Wellness Center4915 Utica Ridge Rd. Davenport\, IA 52807
UID:e.2843.810
SEQUENCE:3
DTSTAMP:20260422T111624Z
URL:https://member.quadcitieschamber.com/events/details/tri-med-health-and-wellness-ribbon-cutting-06-17-2014-810
END:VEVENT

END:VCALENDAR
