BEGIN:VCALENDAR
VERSION:2.0
PRODID:-//ChamberMaster//Event Calendar 2.0//EN
METHOD:PUBLISH
X-PUBLISHED-TTL:P3D
REFRESH-INTERVAL:P3D
CALSCALE:GREGORIAN
BEGIN:VEVENT
DTSTART:20181025T233000Z
DTEND:20181026T003000Z
X-MICROSOFT-CDO-ALLDAYEVENT:FALSE
SUMMARY:Trick or Treat at Iowa Masonic
DESCRIPTION:All are invited to come and trick or treat at Iowa Masonic! Bring the kiddos and have a great time trick or treating with our resident's in our long term care community!
X-ALT-DESC;FMTTYPE=text/html:All are invited to come and trick or treat at Iowa Masonic! Bring the kiddos and have a great time trick or treating with our resident&#39\;s in our long term care community!
LOCATION:Iowa Masonic 2500 Grant Street\, Bettendorf\, Iowa 52722 Phone: 563-359-9171
UID:e.2843.13509
SEQUENCE:3
DTSTAMP:20260423T030032Z
URL:https://member.quadcitieschamber.com/events/details/trick-or-treat-at-iowa-masonic-13509
END:VEVENT

END:VCALENDAR
