BEGIN:VCALENDAR
VERSION:2.0
PRODID:-//ChamberMaster//Event Calendar 2.0//EN
METHOD:PUBLISH
X-PUBLISHED-TTL:P3D
REFRESH-INTERVAL:P3D
CALSCALE:GREGORIAN
BEGIN:VEVENT
DTSTART:20130703T210000Z
DTEND:20130703T213000Z
X-MICROSOFT-CDO-ALLDAYEVENT:FALSE
SUMMARY:Trimble Pointe Groundbreaking & Ribbon Cutting
DESCRIPTION:Please help the Trimble Family celebrate the groundbreaking of Trimble Pointe on Wednesday\, July 3rd at 4:00pm – Located at 701 12th Street in Moline. Trimble Funeral Home offers worry free cremation care and crematory\, veterans funeral care\, and funeral planning. For more information\, please visit www.TrimbleFuneralHomes.com.
X-ALT-DESC;FMTTYPE=text/html:<P style="MARGIN: 0in 0in 0pt" class=MsoNormal><FONT face=Calibri>Please help the Trimble Family celebrate the groundbreaking of Trimble Pointe on <B style="mso-bidi-font-weight: normal">Wednesday\, July 3<SUP>rd</SUP> at 4:00pm</B> – Located at 701 12<SUP>th</SUP> Street in Moline.<?xml:namespace prefix = o ns = "urn:schemas-microsoft-com:office:office" /><o:p></o:p></FONT></P><P style="MARGIN: 0in 0in 0pt" class=MsoNormal><o:p><FONT face=Calibri>&nbsp\;</FONT></o:p></P><P style="MARGIN: 0in 0in 0pt" class=MsoNormal><FONT face=Calibri>Trimble Funeral Home offers worry free cremation care and crematory\, veterans funeral care\, and funeral planning.<o:p></o:p></FONT></P><P style="MARGIN: 0in 0in 0pt" class=MsoNormal><o:p><FONT face=Calibri>&nbsp\;</FONT></o:p></P><P style="MARGIN: 0in 0in 0pt" class=MsoNormal><FONT face=Calibri>For more information\, please visit </FONT><A href="http://www.TrimbleFuneralHomes.com">www.TrimbleFuneralHomes.com</A><FONT face=Calibri>.<o:p></o:p></FONT></P><DIV style="FONT-FAMILY: Arial">&nbsp\;</DIV>
LOCATION:Trimble Pointe701 12th Street Moline\, IL 61265
UID:e.2843.619
SEQUENCE:3
DTSTAMP:20260421T170829Z
URL:https://member.quadcitieschamber.com/events/details/trimble-pointe-groundbreaking-ribbon-cutting-07-03-2013-619
END:VEVENT

END:VCALENDAR
