BEGIN:VCALENDAR
VERSION:2.0
PRODID:-//ChamberMaster//Event Calendar 2.0//EN
METHOD:PUBLISH
X-PUBLISHED-TTL:P3D
REFRESH-INTERVAL:P3D
CALSCALE:GREGORIAN
BEGIN:VEVENT
DTSTART:20180425T180000Z
DTEND:20180425T213000Z
X-MICROSOFT-CDO-ALLDAYEVENT:FALSE
SUMMARY:Trinity College Respiratory Care Department Open House
DESCRIPTION:Trinity College Respiratory Care Department Open House   Watch Demonstrations in our State of the Art Labs   Meet the Faculty & Staff Discover the benefits to a Respiratory Care Career!   Achieve your Associate of Applied Science degree in FIVE semesters!   Student access to local clinical sites in the Quad Cities (No commuting!)   Amazing job placement rates locally and nationally   National average starting salary\, $58\,000 according to the Bureau of Labor & Statistics (BLS)   23% projected increase in employment over next 20 years per BLS (average is 7%)
X-ALT-DESC;FMTTYPE=text/html:Trinity College Respiratory Care Department Open House &bull\; Watch Demonstrations in our State of the Art Labs &bull\; Meet the Faculty &amp\; Staff Discover the benefits to a Respiratory Care Career! &bull\; Achieve your Associate of Applied Science degree in FIVE semesters! &bull\; Student access to local clinical sites in the Quad Cities (No commuting!) &bull\; Amazing job placement rates locally and nationally &bull\; National average starting salary\, $58\,000 according to the Bureau of Labor &amp\; Statistics (BLS) &bull\; 23% projected increase in employment over next 20 years per BLS (average is 7%)
LOCATION:Trinity College of Nursing & Health Sciences
UID:e.2843.10067
SEQUENCE:3
DTSTAMP:20260423T123236Z
URL:https://member.quadcitieschamber.com/events/details/trinity-college-respiratory-care-department-open-house-10067
END:VEVENT

END:VCALENDAR
