BEGIN:VCALENDAR
VERSION:2.0
PRODID:-//ChamberMaster//Event Calendar 2.0//EN
METHOD:PUBLISH
X-PUBLISHED-TTL:P3D
REFRESH-INTERVAL:P3D
CALSCALE:GREGORIAN
BEGIN:VEVENT
DTSTART:20120626T213000Z
DTEND:20120626T220000Z
X-MICROSOFT-CDO-ALLDAYEVENT:FALSE
SUMMARY:Trinity Express Care Bettendorf & Metropolitan Medical Laboratory Ribbon Cutting
DESCRIPTION:Please help celebrate the new location for Trinity Express Care Bettendorf & Metropolitan Medical Laboratory with a ribbon cutting on Tuesday\, June 26th at 4:30pm.  Open House hours will be 4:30pm to 7:00pm. Trinity Express Care Bettendorf is an urgent care clinic that provides treatment for illnesses or injuries that require immediate care\, but may not be serious enough for an emergency room visit.  No appointments are necessary.  The clinic is a full-service urgent care center\, and also provides sports\, school and work physicals.  Trinity Express Care Bettendorf’s hours are 7:00am to 7:00pm\, Monday through Friday and 8:00am to 4:00pm on Saturday and Sunday. Metropolitan Medical Laboratory\, PLC has 11 patient service centers conveniently located throughout the Quad Cities area and focuses on bringing the community the very best in laboratory services and medicine.  Metro at Trinity Express Care Bettendorf’s hours are 7:00am to 6:00pm Monday through Friday\, and 8:00am to noon on Saturday.  All Metro Patient Service Centers accept walk-ins\; no appointments are necessary.  Virtually all health insurances are accepted. For more information\, visit www.trinityqc.com and www.metrolab.com
X-ALT-DESC;FMTTYPE=text/html:<DIV style="FONT-FAMILY: Arial"><P style="MARGIN: 0in 0in 0pt" class=MsoNormal><FONT face=Calibri>Please help celebrate the new location for Trinity Express Care Bettendorf &amp\; Metropolitan Medical Laboratory with a ribbon cutting on Tuesday\, June 26<SUP>th</SUP> at 4:30pm.<SPAN style="mso-spacerun: yes">&nbsp\; </SPAN>Open House hours will be 4:30pm to 7:00pm.</FONT></P><P style="MARGIN: 0in 0in 0pt" class=MsoNormal><?xml:namespace prefix = o ns = "urn:schemas-microsoft-com:office:office" /><o:p><FONT face=Calibri>&nbsp\;</FONT></o:p></P><P style="MARGIN: 0in 0in 0pt" class=MsoNormal><FONT face=Calibri>Trinity Express Care Bettendorf is an urgent care clinic that provides treatment for illnesses or injuries that require immediate care\, but may not be serious enough for an emergency room visit.<SPAN style="mso-spacerun: yes">&nbsp\; </SPAN>No appointments are necessary.<SPAN style="mso-spacerun: yes">&nbsp\; </SPAN>The clinic is a full-service urgent care center\, and also provides sports\, school and work physicals.<SPAN style="mso-spacerun: yes">&nbsp\; </SPAN>Trinity Express Care Bettendorf’s hours are 7:00am to 7:00pm\, Monday through Friday and 8:00am to 4:00pm on Saturday and Sunday.</FONT></P><P style="MARGIN: 0in 0in 0pt" class=MsoNormal><o:p><FONT face=Calibri>&nbsp\;</FONT></o:p></P><P style="MARGIN: 0in 0in 0pt" class=MsoNormal><FONT face=Calibri>Metropolitan Medical Laboratory\, PLC has 11 patient service centers conveniently located throughout the Quad Cities area and focuses on bringing the community the very best in laboratory services and medicine.<SPAN style="mso-spacerun: yes">&nbsp\; </SPAN>Metro at Trinity Express Care Bettendorf’s hours are 7:00am to 6:00pm Monday through Friday\, and 8:00am to noon on Saturday.<SPAN style="mso-spacerun: yes">&nbsp\; </SPAN>All Metro Patient Service Centers accept walk-ins\; no appointments are necessary.<SPAN style="mso-spacerun: yes">&nbsp\; </SPAN>Virtually all health insurances are accepted.</FONT></P><P style="MARGIN: 0in 0in 0pt" class=MsoNormal><o:p><FONT face=Calibri>&nbsp\;</FONT></o:p></P><P style="MARGIN: 0in 0in 0pt" class=MsoNormal><FONT face=Calibri>For more information\, visit </FONT><A href="http://www.trinityqc.com"><FONT face="Times New Roman">www.trinityqc.com</FONT></A><FONT face=Calibri> and </FONT><A href="http://www.metrolab.com"><FONT face="Times New Roman">www.metrolab.com</FONT></A><FONT face=Calibri> </FONT></P></DIV>
LOCATION:Trinity Express Care Bettendorf3415 53rd Avenue Bettendorf\, IA 52722
UID:e.2843.388
SEQUENCE:3
DTSTAMP:20260421T235627Z
URL:https://member.quadcitieschamber.com/events/details/trinity-express-care-bettendorf-metropolitan-medical-laboratory-ribbon-cutting-06-26-2012-388
END:VEVENT

END:VCALENDAR
