BEGIN:VCALENDAR
VERSION:2.0
PRODID:-//ChamberMaster//Event Calendar 2.0//EN
METHOD:PUBLISH
X-PUBLISHED-TTL:P3D
REFRESH-INTERVAL:P3D
CALSCALE:GREGORIAN
BEGIN:VEVENT
DTSTART:20181006T210000Z
DTEND:20181007T020000Z
X-MICROSOFT-CDO-ALLDAYEVENT:FALSE
SUMMARY:Trivia Night Fundraiser for Hope Creek Care Center
DESCRIPTION:The purpose of our fundraiser is to build community involvment while raising money to purchase equipment updates to our facility. We moved to our new building in 2009 and with everyday use\, some of our resident and facility items and equipment need replaced. Some items include\; resident beds\, mattresses\, pillows\, linens\, vital machine equipment\, restorative equipment\, therapy items\, and chairs.\n\n\n\nMr. Trivia will be providing us with his trivia talents at our event!  Food\, beverages\, beer\, as well as\, raffel baskets will be there!!!\n\n\n\nSign-up has started\, so please be sure to get your team registered! We will reserve tables of eight\, couples\, as well as\, individuals!\n\n\n\nIf you or your organization would like to donate to our fundraiser\, please let us know! We are taking donations to create raffel baskets. Your donation of any kind would be greatly appreciated. You may put together your own raffel basket to donate or give individual items\, such as gift cards\, merchandise or a monetary item.  Please contact Deb Kettler if you have a donation!
X-ALT-DESC;FMTTYPE=text/html:The purpose of our fundraiser is to build community involvment while raising money to purchase equipment updates to our facility. We moved to our new building in 2009 and with everyday use\, some of our resident and facility items and equipment need replaced. Some items include\; resident beds\, mattresses\, pillows\, linens\, vital machine equipment\, restorative equipment\, therapy items\, and chairs.<br />\n<br />\nMr. Trivia will be providing us with his trivia talents at our event!&nbsp\; Food\, beverages\, beer\, as well as\, raffel baskets will be there!!!<br />\n<br />\nSign-up has started\, so please be sure to get your team registered! We will reserve tables of eight\, couples\, as well as\, individuals!<br />\n<br />\nIf you or your organization would like to donate to our fundraiser\, please let us know! We are taking donations to create raffel baskets. Your donation of any kind would be greatly appreciated. You may put together your own raffel basket to donate or give individual items\, such as gift cards\, merchandise or a monetary item.&nbsp\; Please contact Deb Kettler if you have a donation!&nbsp\;
LOCATION:Christ the King-Belivers Together Gym 3205 60th Street Moline\, IL 61265
UID:e.2843.10074
SEQUENCE:3
DTSTAMP:20260423T030143Z
URL:https://member.quadcitieschamber.com/events/details/trivia-night-fundraiser-for-hope-creek-care-center-10074
END:VEVENT

END:VCALENDAR
