BEGIN:VCALENDAR
VERSION:2.0
PRODID:-//ChamberMaster//Event Calendar 2.0//EN
METHOD:PUBLISH
X-PUBLISHED-TTL:P3D
REFRESH-INTERVAL:P3D
CALSCALE:GREGORIAN
BEGIN:VEVENT
DTSTART:20180113T233000Z
DTEND:20180114T040000Z
X-MICROSOFT-CDO-ALLDAYEVENT:FALSE
SUMMARY:Trivia Night - The Arc of the Quad Cities Area
DESCRIPTION:Join The Arc of the Quad Cities Area for our annual Trivia Night. Get your team together while supporting a great cause on Saturday\, January 13. Doors open at 5:30 p.m.\, game begins at 6:30 p.m. located at Plumbers & Pipefitters Local #25 Union Hall\, 4600 46th Avenue\, Rock Island. The evening includes cash bar\, BYO snacks\, raffle items and 50/50 raffles. Get your team together\, $80 for a team of 8 or $10 per person payable at the door. For more information: 309-786-6474 or www.arcqca.org
X-ALT-DESC;FMTTYPE=text/html:Join The Arc of the Quad Cities Area for our annual Trivia Night. Get your team together while supporting a great cause on Saturday\, January 13. Doors open at 5:30 p.m.\, game begins at 6:30 p.m. located at Plumbers &amp\; Pipefitters Local #25 Union Hall\, 4600 46th Avenue\, Rock Island. The evening includes cash bar\, BYO snacks\, raffle items and 50/50 raffles. Get your team together\, $80 for a team of 8 or $10 per person payable at the door. For more information: 309-786-6474 or www.arcqca.org
LOCATION:Plumbers & Pipefitters Local #25 Union Hall 4600 46th Avenue Rock Island\, IL 61201
UID:e.2843.8643
SEQUENCE:3
DTSTAMP:20260423T165727Z
URL:https://member.quadcitieschamber.com/events/details/trivia-night-the-arc-of-the-quad-cities-area-8643
END:VEVENT

END:VCALENDAR
