BEGIN:VCALENDAR
VERSION:2.0
PRODID:-//ChamberMaster//Event Calendar 2.0//EN
METHOD:PUBLISH
X-PUBLISHED-TTL:P3D
REFRESH-INTERVAL:P3D
CALSCALE:GREGORIAN
BEGIN:VEVENT
DTSTART:20130517T190000Z
DTEND:20130517T193000Z
X-MICROSOFT-CDO-ALLDAYEVENT:FALSE
SUMMARY:True North Family Chiropractic Ribbon Cutting
DESCRIPTION:Please help welcome new business and new member\, True North Family Chiropractic\, with a ribbon cutting on Friday\, May 17th at 2:00pm. Located at 2435 E. Kimberly Road\, Suite 85 South\, Bettendorf. At True North Family Chiropractic\, they look to clear out any interference with the brainstem first and foremost.  Dr. Jolene Upchurch wishes to live a life of extraordinary service\, helping anyone she can. CDL physicals are also performed. For more information\, visit www.truenorthfamilychiro.com.
X-ALT-DESC;FMTTYPE=text/html:<P style="MARGIN: 0in 0in 0pt" class=MsoNormal><FONT face=Calibri>Please help welcome new business and new member\, True North Family Chiropractic\, with a ribbon cutting on <B style="mso-bidi-font-weight: normal">Friday\, May 17<SUP>th</SUP> at 2:00pm</B>. Located at 2435 E. Kimberly Road\, Suite 85 South\, Bettendorf.</FONT></P><P style="MARGIN: 0in 0in 0pt" class=MsoNormal><?xml:namespace prefix = o ns = "urn:schemas-microsoft-com:office:office" /><o:p><FONT face=Calibri>&nbsp\;</FONT></o:p></P><P style="MARGIN: 0in 0in 0pt" class=MsoNormal><FONT face=Calibri>At True North Family Chiropractic\, they look to clear</FONT><A name=_GoBack></A><FONT face=Calibri> out any interference with the brainstem first and foremost.<SPAN style="mso-spacerun: yes">&nbsp\; </SPAN>Dr. Jolene Upchurch wishes to live a life of extraordinary service\, helping anyone she can. CDL physicals are also performed.<o:p></o:p></FONT></P><P style="MARGIN: 0in 0in 0pt" class=MsoNormal><o:p><FONT face=Calibri>&nbsp\;</FONT></o:p></P><P style="MARGIN: 0in 0in 0pt" class=MsoNormal><FONT face=Calibri>For more information\, visit </FONT><A href="http://www.truenorthfamilychiro.com">www.truenorthfamilychiro.com</A><FONT face=Calibri>.<o:p></o:p></FONT></P><DIV style="FONT-FAMILY: Arial">&nbsp\;</DIV>
LOCATION:True North Family Chiropractic2435 E. Kimberly Rd. Suite 85 Bettendorf\, IA 52722
UID:e.2843.555
SEQUENCE:3
DTSTAMP:20260421T121508Z
URL:https://member.quadcitieschamber.com/events/details/true-north-family-chiropractic-ribbon-cutting-05-17-2013-555
END:VEVENT

END:VCALENDAR
