BEGIN:VCALENDAR
VERSION:2.0
PRODID:-//ChamberMaster//Event Calendar 2.0//EN
METHOD:PUBLISH
X-PUBLISHED-TTL:P3D
REFRESH-INTERVAL:P3D
CALSCALE:GREGORIAN
BEGIN:VEVENT
DTSTART;VALUE=DATE:20201022
DTEND;VALUE=DATE:20201023
TRANSP:TRANSPARENT
X-MICROSOFT-CDO-ALLDAYEVENT:TRUE
SUMMARY:TSTS Virtual Event: Create Your Business YouTube Channel
DESCRIPTION:Setting up a YouTube Channel can be easier than you think. In this month's virtual workshop\, our videographer will answer questions to make sure your YouTube Channel is up and running. This workshop is free\, but registration is required.\n\nHow to prepare for this event:\n\n\n	Register for our event.\n	Read our blog and follow the video tutorial you will receive via email in mid October.\n	Attend the live Q&A event.\n\n\nWho should attend: Staff responsible for Marketing\, Sales\, and Communications.\n\n\nRegister Here\n\nThursday\, Oct 22\, 2020\n\n1:00 - 2:00 pm CDT
X-ALT-DESC;FMTTYPE=text/html:<div>\n<p>Setting up a YouTube Channel can be easier than you think. In this month&rsquo\;s virtual workshop\, our videographer will answer questions to make sure your YouTube Channel is up and running. This workshop is free\, but registration is required.</p>\n\n<p><strong>How to prepare for this event:</strong></p>\n\n<ol>\n	<li>Register for our event.</li>\n	<li>Read our&nbsp\;<a href="http://setting%20up%20a%20youtube%20channel%20can%20be%20easier%20than%20you%20think.%20in%20this%20month%E2%80%99s%20virtual%20workshop%2C%20our%20videographer%20will%20answer%20questions%20to%20make%20sure%20your%20youtube%20channel%20is%20up%20and%20running.%20this%20workshop%20is%20free%2C%20but%20registration%20is%20required.%20how%20to%20prepare%20for%20this%20event:%201.%20register.%202.%20read%20our%20blog%20%28add%20link%20to%20tsts%20blog%29%20%26%20follow%20the%20video%20tutorial%20you%20will%20receive%20via%20email%20next%20month.%203.%20attend%20the%20live%20q%26a%20event.%20who%20should%20attend:%20Staff%20responsible%20for%20Marketing\,%20Sales\,%20and%20Communications./" rel="noopener noreferrer" style="box-sizing: inherit\; background-color: transparent\; color: rgb(3\, 114\, 182)\;" target="_blank">blog</a>&nbsp\;and follow the video tutorial you will receive via email in mid October.</li>\n	<li>Attend the live Q&amp\;A event.</li>\n</ol>\n\n<p><strong>Who should attend:</strong>&nbsp\;Staff responsible for Marketing\, Sales\, and Communications.</p>\n</div>\n\n<p><a href="https://www.eventbrite.com/e/create-your-business-youtube-channel-qa-tickets-122272768141" style="box-sizing: inherit\; background-color: transparent\; color: rgb(3\, 114\, 182)\;">Register Here</a></p>\n\n<p>Thursday\, Oct 22\, 2020<br />\n1:00 - 2:00 pm CDT</p>\n
LOCATION:Online
UID:e.2843.18183
SEQUENCE:3
DTSTAMP:20260421T124639Z
URL:https://member.quadcitieschamber.com/events/details/tsts-virtual-event-create-your-business-youtube-channel-18183
END:VEVENT

END:VCALENDAR
