BEGIN:VCALENDAR
VERSION:2.0
PRODID:-//ChamberMaster//Event Calendar 2.0//EN
METHOD:PUBLISH
X-PUBLISHED-TTL:P3D
REFRESH-INTERVAL:P3D
CALSCALE:GREGORIAN
BEGIN:VEVENT
DTSTART:20200820T130000Z
DTEND:20200820T133000Z
X-MICROSOFT-CDO-ALLDAYEVENT:FALSE
SUMMARY:TSTS Virtual Event: 5 Things that Cause IT Downtime That You Don't Have Time to Think About
DESCRIPTION:Neglecting messages\, employee slip-up\, your staff's friendly replies to criminals\, and holes in your workstation software\, all invite evildoers.\n\nLearn how to solve these unavoidable issues during our 30-minute client event.\n\nYour weakest links in cybersecurity may be obvious but often get little attention. So we did the research for you. Our IT experts found the best-rated tools in the market\, and have packaged them for a simple\, all-inclusive low price. This includes install\, monitoring\, and proactively prevention of work-stopping events.\n\nWho should attend: anyone who can't afford unexpected IT expenses or downtime and are ready to simply IT\; IT admins who need more time in the day.\n\nIssues solved in this event: email security\, employee security awareness training\, hardware/software preventative alerts\, next-gen anti-virus monitoring\, and automated software patching.\nRegister Here
X-ALT-DESC;FMTTYPE=text/html:<p>Neglecting messages\, employee slip-up\, your staff&#39\;s friendly replies to criminals\, and holes in your workstation software\, all invite evildoers.</p>\n\n<p>Learn how to solve these unavoidable issues during our 30-minute client event.</p>\n\n<p>Your weakest links in cybersecurity may be obvious but often get little attention. So we did the research for you. Our IT experts found the best-rated tools in the market\, and have packaged them for a simple\, all-inclusive low price. This includes install\, monitoring\, and proactively prevention of work-stopping events.</p>\n\n<p>Who should attend: anyone who can&#39\;t afford unexpected IT expenses or downtime and are ready to simply IT\; IT admins who need more time in the day.</p>\n\n<p>Issues solved in this event: email security\, employee security awareness training\, hardware/software preventative alerts\, next-gen anti-virus monitoring\, and automated software patching.</p>\n<span style="font-size:14px"><a href="https://www.eventbrite.com/e/tsts-virtual-event-monitoring-tools-to-keep-you-running-tickets-114930253482" style="box-sizing: inherit\; color: rgb(3\, 114\, 182)\; outline: transparent 0px\; font-family: &quot\;Montserrat Light&quot\;\, sans-serif\; font-size: 18px\;">Register Here</a></span>
LOCATION:Online.
UID:e.2843.17897
SEQUENCE:3
DTSTAMP:20260421T142637Z
URL:https://member.quadcitieschamber.com/events/details/tsts-virtual-event-monitoring-tools-to-keep-you-running-17897
END:VEVENT

END:VCALENDAR
