BEGIN:VCALENDAR
VERSION:2.0
PRODID:-//ChamberMaster//Event Calendar 2.0//EN
METHOD:PUBLISH
X-PUBLISHED-TTL:P3D
REFRESH-INTERVAL:P3D
CALSCALE:GREGORIAN
BEGIN:VEVENT
DTSTART:20111102T210000Z
DTEND:20111102T050000Z
X-MICROSOFT-CDO-ALLDAYEVENT:FALSE
SUMMARY:Turkey Trip Information Session - 4:00 PM
DESCRIPTION:The Quad Cities Chamber is  hosting a trip to Istanbul\, Turkey March 13-20.  This 9-day trip includes airfare from O'Hare International Airport\, sightseeing tours and more.  Attend this informational session as you consider this exotic trip to explore the culture of Turkey.Please click here to view the trip brochure.
X-ALT-DESC;FMTTYPE=text/html:<DIV><P style="TEXT-ALIGN: center\; MARGIN: 0in 0in 10pt" class=MsoNormal align=center>The Quad Cities Chamber is&nbsp\; hosting a trip to Istanbul\, Turkey March 13-20.&nbsp\; This 9-day trip includes airfare from O'Hare International Airport\, sightseeing tours and more.&nbsp\; Attend this informational session as you consider this exotic trip to explore the culture of Turkey.</P><P style="MARGIN: 0in 0in 10pt" class=MsoNormal align=center>Please click <A href="http://www.quadcitieschamber.com/sbalinks.html?reaction=download&amp\;id=381">here</A>&nbsp\;to view the trip brochure.</P></DIV>
LOCATION:Quad Cities Chamber (Moline Office)622 19th Street Moline\, IL 61265
UID:e.2843.288
SEQUENCE:3
DTSTAMP:20260422T080450Z
URL:https://member.quadcitieschamber.com/events/details/turkey-trip-information-session-4-00-pm-11-02-2011-288
END:VEVENT

END:VCALENDAR
