BEGIN:VCALENDAR
VERSION:2.0
PRODID:-//ChamberMaster//Event Calendar 2.0//EN
METHOD:PUBLISH
X-PUBLISHED-TTL:P3D
REFRESH-INTERVAL:P3D
CALSCALE:GREGORIAN
BEGIN:VEVENT
DTSTART:20200917T130000Z
DTEND:20200917T133000Z
X-MICROSOFT-CDO-ALLDAYEVENT:FALSE
SUMMARY:Twin State Technical Services Free Event: PRTG - Simple and Secure Monitoring
DESCRIPTION:Automated monitoring of any device or system is easy and secure with PRTG. Our helpdesk experts will demonstrate this real-time watchdog. Create dashboards to monitor all tech systems\, devices\, traffic\, and applications to keep your downtime at a minimum.\n\nWho should attend: IT staff responsible for systems reliability\n\n\n\nRegister Here\n\nThursday\, Sep 17\, 2020\n\n8:00 - 8:30 am CDT
X-ALT-DESC;FMTTYPE=text/html:<p>Automated monitoring of any device or system is easy and secure with PRTG. Our helpdesk experts will demonstrate this real-time watchdog. Create dashboards to monitor all tech systems\, devices\, traffic\, and applications to keep your downtime at a minimum.</p>\n\n<p>Who should attend: IT staff responsible for systems reliability<br />\n<br />\n<a href="https://www.eventbrite.com/e/prtg-simple-and-secure-monitoring-tickets-118674680163" style="background-color: transparent\; box-sizing: inherit\; color: rgb(3\, 114\, 182)\; outline: transparent 0px\;">Register Here</a></p>\n\n<p>Thursday\, Sep 17\, 2020<br />\n8:00 - 8:30 am CDT</p>\n
LOCATION:Online.
UID:e.2843.18042
SEQUENCE:3
DTSTAMP:20260421T124025Z
URL:https://member.quadcitieschamber.com/events/details/twin-state-technical-services-free-event-prtg-simple-and-secure-monitoring-18042
END:VEVENT

END:VCALENDAR
