BEGIN:VCALENDAR
VERSION:2.0
PRODID:-//ChamberMaster//Event Calendar 2.0//EN
METHOD:PUBLISH
X-PUBLISHED-TTL:P3D
REFRESH-INTERVAL:P3D
CALSCALE:GREGORIAN
BEGIN:VEVENT
DTSTART:20121212T210000Z
DTEND:20121212T213000Z
X-MICROSOFT-CDO-ALLDAYEVENT:FALSE
SUMMARY:Two Rivers YMCA Ribbon Cutting
DESCRIPTION:Please help the Two Rivers YMCA celebrate their property reinvestment with a ribbon cutting on Wednesday\, December 12\, 2012 at 3:00pm.  Located at 2040 53rd Street in Moline – north of Avenue of the Cities. The Two Rivers YMCA has been awarded a $20\,000 grant from The Amy Helpenstell Foundation to fund the “Youth and Family Energy Zone.”  Please see the attached press release. For more information\, please visit www.tworiversymca.org.
X-ALT-DESC;FMTTYPE=text/html:<P style="MARGIN: 0in 0in 0pt" class=MsoNormal><FONT face=Calibri>Please help the Two Rivers YMCA celebrate their property reinvestment with a ribbon cutting on Wednesday\, December 12\, 2012 at 3:00pm.<SPAN style="mso-spacerun: yes">&nbsp\; </SPAN>Located at 2040 53<SUP>rd</SUP> Street in Moline – north of Avenue of the Cities.</FONT></P><P style="MARGIN: 0in 0in 0pt" class=MsoNormal><?xml:namespace prefix = o ns = "urn:schemas-microsoft-com:office:office" /><o:p><FONT face=Calibri>&nbsp\;</FONT></o:p></P><P style="MARGIN: 0in 0in 0pt" class=MsoNormal><FONT face=Calibri>The Two Rivers YMCA has been awarded a $20\,000 grant from The Amy Helpenstell Foundation to fund the “Youth and Family Energy Zone.”<SPAN style="mso-spacerun: yes">&nbsp\; </SPAN>Please see the attached press release.</FONT></P><DIV style="FONT-FAMILY: Arial">&nbsp\;</DIV><DIV style="FONT-FAMILY: Arial"><P style="MARGIN: 0in 0in 0pt" class=MsoNormal><FONT face=Calibri>For more information\, please visit </FONT><A href="http://www.tworiversymca.org"><FONT face="Times New Roman">www.tworiversymca.org</FONT></A>.</P></DIV>
LOCATION:YMCA - Two Rivers2040 53rd Street Moline\, IL 61265
UID:e.2843.485
SEQUENCE:3
DTSTAMP:20260421T134510Z
URL:https://member.quadcitieschamber.com/events/details/two-rivers-ymca-ribbon-cutting-12-12-2012-485
END:VEVENT

END:VCALENDAR
