BEGIN:VCALENDAR
VERSION:2.0
PRODID:-//ChamberMaster//Event Calendar 2.0//EN
METHOD:PUBLISH
X-PUBLISHED-TTL:P3D
REFRESH-INTERVAL:P3D
CALSCALE:GREGORIAN
BEGIN:VEVENT
DTSTART:20140108T143000Z
DTEND:20140108T160000Z
X-MICROSOFT-CDO-ALLDAYEVENT:FALSE
SUMMARY:U.S. Cellular Free Device Workshop
DESCRIPTION:Did you receive a new smartphone or tablet this holiday season? For those who recently made the switch to a smartphone or tablet or simply upgraded their device during the holidays\, U.S. Cellular willoffer a free Device Workshop on January 8 at 8:30 a.m. at 2910 E. 53rd Ave.\, U.S. Cellular associates will help attendees get the most out of the features on their new devices\, such as the iPhone 5sor iPad Air. The workshop is open to both new and existing smartphone and tablet users. Attendees donot have to be a U.S. Cellular customer.
X-ALT-DESC;FMTTYPE=text/html:Did you receive a new smartphone or tablet this holiday season? For those who recently made the switch to a smartphone or tablet or simply upgraded their device during the holidays\, U.S. Cellular willoffer a free Device Workshop on January 8 at 8:30 a.m. at 2910 E. 53rd Ave.\, U.S. Cellular associates will help attendees get the most out of the features on their new devices\, such as the iPhone 5sor iPad Air. The workshop is open to both new and existing smartphone and tablet users. Attendees donot have to be a U.S. Cellular customer.
LOCATION:U.S. Cellular2910 E. 53rd Street Davenport\, IA 52807
UID:e.2843.39
SEQUENCE:3
DTSTAMP:20260422T012841Z
URL:https://member.quadcitieschamber.com/events/details/u-s-cellular-free-device-workshop-01-08-2014-39
END:VEVENT

END:VCALENDAR
