BEGIN:VCALENDAR
VERSION:2.0
PRODID:-//ChamberMaster//Event Calendar 2.0//EN
METHOD:PUBLISH
X-PUBLISHED-TTL:P3D
REFRESH-INTERVAL:P3D
CALSCALE:GREGORIAN
BEGIN:VEVENT
DTSTART:20131211T143000Z
DTEND:20131211T160000Z
X-MICROSOFT-CDO-ALLDAYEVENT:FALSE
SUMMARY:U.S. Cellular Free Device Workshop
DESCRIPTION:A smartphone or tablet is aimed to make your life easier\, but not everyone has the time to learn howto use their device to its full potential. To address this\, U.S. Cellular will offer a free DeviceWorkshop on December 11 at 8:30 a.m. at 2910 E. 53rd St.\, where current or potential smartphone users can learn more about the features\, tips and tricks of their specific device. At the workshop\, U.S.Cellular associates will offer attendees hands-on assistance to get the most out of the features ontheir smartphones and tablets\, such as the iPhone 5s and iPhone 5c.
X-ALT-DESC;FMTTYPE=text/html:A smartphone or tablet is aimed to make your life easier\, but not everyone has the time to learn howto use their device to its full potential. To address this\, U.S. Cellular will offer a free DeviceWorkshop on December 11 at 8:30 a.m. at 2910 E. 53rd St.\, where current or potential smartphone users can learn more about the features\, tips and tricks of their specific device. At the workshop\, U.S.Cellular associates will offer attendees hands-on assistance to get the most out of the features ontheir smartphones and tablets\, such as the iPhone 5s and iPhone 5c.
LOCATION:U.S. Cellular2910 E. 53rd Street Davenport\, IA 52807
UID:e.2843.42
SEQUENCE:3
DTSTAMP:20260421T234926Z
URL:https://member.quadcitieschamber.com/events/details/u-s-cellular-free-device-workshop-12-11-2013-42
END:VEVENT

END:VCALENDAR
