BEGIN:VCALENDAR
VERSION:2.0
PRODID:-//ChamberMaster//Event Calendar 2.0//EN
METHOD:PUBLISH
X-PUBLISHED-TTL:P3D
REFRESH-INTERVAL:P3D
CALSCALE:GREGORIAN
BEGIN:VEVENT
DTSTART:20131224T150000Z
DTEND:20131224T160000Z
X-MICROSOFT-CDO-ALLDAYEVENT:FALSE
SUMMARY:U.S. Cellular Free Device Workshop
DESCRIPTION:A smartphone or tablet is aimed to make your life easier\, but not everyone has the time to learn howto use their device to its full potential. To address this\, U.S. Cellular will offer a free DeviceWorkshop on December 24 at 9 a.m. at 3900 38th Ave.\, where current or potential smartphone users canlearn more about the features\, tips and tricks of their specific device. At the workshop\, U.S. Cellular associates will offer attendees hands-on assistance to get the most out of the features on their smartphones and tablets\, such as the iPhone 5s and iPhone 5c.
X-ALT-DESC;FMTTYPE=text/html:A smartphone or tablet is aimed to make your life easier\, but not everyone has the time to learn howto use their device to its full potential. To address this\, U.S. Cellular will offer a free DeviceWorkshop on December 24 at 9 a.m. at 3900 38th Ave.\, where current or potential smartphone users canlearn more about the features\, tips and tricks of their specific device. At the workshop\, U.S. Cellular associates will offer attendees hands-on assistance to get the most out of the features on their smartphones and tablets\, such as the iPhone 5s and iPhone 5c.
LOCATION:U.S. Cellular3900 38th Avenue Moline\, IL 61265
UID:e.2843.40
SEQUENCE:3
DTSTAMP:20260421T234839Z
URL:https://member.quadcitieschamber.com/events/details/u-s-cellular-free-device-workshop-12-24-2013-40
END:VEVENT

END:VCALENDAR
