BEGIN:VCALENDAR
VERSION:2.0
PRODID:-//ChamberMaster//Event Calendar 2.0//EN
METHOD:PUBLISH
X-PUBLISHED-TTL:P3D
REFRESH-INTERVAL:P3D
CALSCALE:GREGORIAN
BEGIN:VEVENT
DTSTART:20130508T140000Z
DTEND:20130508T150000Z
X-MICROSOFT-CDO-ALLDAYEVENT:FALSE
SUMMARY:U.S. Cellular to host Device Workshop in Davenport
DESCRIPTION:Have you ever wondered how to use all of the features on your smartphone\, or perhaps\, wanted to knowif you are doing everything you can to get the most out of your device? You are not alone. U.S. Cellular invites current or potential smartphone users to a Device Workshop\, where you can learn more about the features\, tips and tricks of a specific device â€“ or even stop by to decide if a smartphone or tablet is right for your needs. At the workshop\, U.S. Cellular associates will offer attendeeshands-on assistance for Android-powered\, Windows Phone and BlackBerry devices\, such as the Samsung Galaxy S 4. \n\nâ€œYour phone can simplify and enhance your life\, which is why U.S. Cellular providesa high-speed nationwide network and the latest phones and tablets. Ensuring every customer knows how to get the most out of their device is just one of the ways we provide the best customer experience\,â€ said Don Cochran\, director of sales for U.S. Cellular in Iowa. â€œFrom offering unique benefits like a valuable rewards program that recognizes loyalty\, we treat every customer like a neighbor\,not a number.â€ \n\nThe latest Android-powered\, Windows Phone and BlackBerry options offered by U.S. Cellular enable customers to transform a smartphone to a device that meets their exact needs. TheSamsung Galaxy S 4 allows customers to enjoy faster web browsing and quick app downloads with accessto 4G LTE speeds that are up to 10 times faster than 3G.\n\nThe workshop is open to everyone.
X-ALT-DESC;FMTTYPE=text/html:Have you ever wondered how to use all of the features on your smartphone\, or perhaps\, wanted to knowif you are doing everything you can to get the most out of your device? You are not alone. U.S. Cellular invites current or potential smartphone users to a Device Workshop\, where you can learn more about the features\, tips and tricks of a specific device â€“ or even stop by to decide if a smartphone or tablet is right for your needs. At the workshop\, U.S. Cellular associates will offer attendeeshands-on assistance for Android-powered\, Windows Phone and BlackBerry devices\, such as the Samsung Galaxy S 4. \n\nâ€œYour phone can simplify and enhance your life\, which is why U.S. Cellular providesa high-speed nationwide network and the latest phones and tablets. Ensuring every customer knows how to get the most out of their device is just one of the ways we provide the best customer experience\,â€ said Don Cochran\, director of sales for U.S. Cellular in Iowa. â€œFrom offering unique benefits like a valuable rewards program that recognizes loyalty\, we treat every customer like a neighbor\,not a number.â€ \n\nThe latest Android-powered\, Windows Phone and BlackBerry options offered by U.S. Cellular enable customers to transform a smartphone to a device that meets their exact needs. TheSamsung Galaxy S 4 allows customers to enjoy faster web browsing and quick app downloads with accessto 4G LTE speeds that are up to 10 times faster than 3G.\n\nThe workshop is open to everyone.\n
LOCATION:U.S. Cellular2910 E. 53rd St. Davenport\, IA 52807
UID:e.2843.78
SEQUENCE:3
DTSTAMP:20260421T121100Z
URL:https://member.quadcitieschamber.com/events/details/u-s-cellular-to-host-device-workshop-in-davenport-05-08-2013-78
END:VEVENT

END:VCALENDAR
