BEGIN:VCALENDAR
VERSION:2.0
PRODID:-//ChamberMaster//Event Calendar 2.0//EN
METHOD:PUBLISH
X-PUBLISHED-TTL:P3D
REFRESH-INTERVAL:P3D
CALSCALE:GREGORIAN
BEGIN:VEVENT
DTSTART:20130612T133000Z
DTEND:20130612T140000Z
X-MICROSOFT-CDO-ALLDAYEVENT:FALSE
SUMMARY:U.S. Cellular to host Device Workshop in Davenport
DESCRIPTION:Have you ever wondered how to use all of the features on your smartphone\, or perhaps\, wanted to knowif you are doing everything you can to get the most out of your device? You are not alone. U.S. Cellular invites current or potential smartphone users to a Device Workshop\, where you can learn more about the features\, tips and tricks of a specific device â€“ or even stop by to decide if a smartphone or tablet is right for your needs. At the workshop\, U.S. Cellular associates will offer attendeeshands-on assistance for Android-powered\, Windows Phone and BlackBerry devices\, such as the Samsung Galaxy S 4.
X-ALT-DESC;FMTTYPE=text/html:Have you ever wondered how to use all of the features on your smartphone\, or perhaps\, wanted to knowif you are doing everything you can to get the most out of your device? You are not alone. U.S. Cellular invites current or potential smartphone users to a Device Workshop\, where you can learn more about the features\, tips and tricks of a specific device â€“ or even stop by to decide if a smartphone or tablet is right for your needs. At the workshop\, U.S. Cellular associates will offer attendeeshands-on assistance for Android-powered\, Windows Phone and BlackBerry devices\, such as the Samsung Galaxy S 4.
LOCATION:U.S. Cellular2910 E. 53rd St. Davenport\, IA 52807
UID:e.2843.73
SEQUENCE:3
DTSTAMP:20260421T134541Z
URL:https://member.quadcitieschamber.com/events/details/u-s-cellular-to-host-device-workshop-in-davenport-06-12-2013-73
END:VEVENT

END:VCALENDAR
