BEGIN:VCALENDAR
VERSION:2.0
PRODID:-//ChamberMaster//Event Calendar 2.0//EN
METHOD:PUBLISH
X-PUBLISHED-TTL:P3D
REFRESH-INTERVAL:P3D
CALSCALE:GREGORIAN
BEGIN:VEVENT
DTSTART:20120119T223000Z
DTEND:20120119T230000Z
X-MICROSOFT-CDO-ALLDAYEVENT:FALSE
SUMMARY:Unified Financial Strategies Ribbon Cutting
DESCRIPTION:Please help celebrate the new location and 10-year anniversary of Unified Financial Strategies with a ribbon cutting on Thursday\, January 19th at 4:30pm.  The address is 5153 Utica Ridge Rd\, just south of 53rd Street. Unified Financial Strategies provides financial services to individuals including Investments\, Retirement\, Estate Planning\, Taxes and Insurance.  UFS has been serving the QCA for the past 10 years. To learn more\, visit www.unifiedfs.com
X-ALT-DESC;FMTTYPE=text/html:<DIV><FONT face=Calibri><P style="MARGIN: 0in 0in 0pt" class=MsoNormal>Please help celebrate the new location and 10-year anniversary of Unified Financial Strategies with a ribbon cutting on Thursday\, January 19<SUP>th</SUP> at 4:30pm.<SPAN style="mso-spacerun: yes">&nbsp\; </SPAN>The address is 5153 Utica Ridge Rd\, just south of 53<SUP>rd</SUP> Street.</P><P style="MARGIN: 0in 0in 0pt" class=MsoNormal><?xml:namespace prefix = o ns = "urn:schemas-microsoft-com:office:office" /><o:p>&nbsp\;</o:p></P><P style="MARGIN: 0in 0in 0pt" class=MsoNormal>Unified Financial Strategies provides financial services to individuals including Investments\, Retirement\, Estate Planning\, Taxes and Insurance.<SPAN style="mso-spacerun: yes">&nbsp\; </SPAN>UFS has been serving the QCA for the past 10 years.</P><P style="MARGIN: 0in 0in 0pt" class=MsoNormal><o:p>&nbsp\;</o:p></P><P style="MARGIN: 0in 0in 0pt" class=MsoNormal>To learn more\, visit <A href="http://www.unifiedfs.com"><FONT face="Times New Roman">www.unifiedfs.com</FONT></A> </P><P style="MARGIN: 0in 0in 0pt" class=MsoNormal>&nbsp\;</P></FONT></DIV>
LOCATION:Unified Financial Strategies\, LLC5153 Utica Ridge Rd. Davenport\, IA 52807
UID:e.2843.337
SEQUENCE:3
DTSTAMP:20260422T111738Z
URL:https://member.quadcitieschamber.com/events/details/unified-financial-strategies-ribbon-cutting-01-19-2012-337
END:VEVENT

END:VCALENDAR
