BEGIN:VCALENDAR
VERSION:2.0
PRODID:-//ChamberMaster//Event Calendar 2.0//EN
METHOD:PUBLISH
X-PUBLISHED-TTL:P3D
REFRESH-INTERVAL:P3D
CALSCALE:GREGORIAN
BEGIN:VEVENT
DTSTART:20130821T143000Z
DTEND:20130821T203000Z
X-MICROSOFT-CDO-ALLDAYEVENT:FALSE
SUMMARY:United Way Day of Caring
DESCRIPTION:The Day of Caring is a Community-wide day of hands-on volunteering in which United Way brings together volunteer teams to take action\, helping those in need\, by completing projects for area non-profitorganizations to help change lives and create a stronger community.  \nDay of Caring teams are madeup of volunteers from local businesses\, corporations\, union groups\, donors\, neighborhoods and peoplejust wanting to get involved. Volunteer registration opens in July.  \nProjects are scheduled as half-day (9:30am - 12:30pm or 12:30pm - 3:30pm) or full-day projects (9:30am - 3:30pm). All projectssubmitted must be pre-approved by United Way. To submit a volunteer project go to http://volunteer.truist.com/uwotqca-3/agency/.\nFor more information about the Day of Caring\, please contact Amy Danielsat adaniels@unitedwayqc.org or 563.344.0344.
X-ALT-DESC;FMTTYPE=text/html:The Day of Caring is a Community-wide day of hands-on volunteering in which United Way brings together volunteer teams to take action\, helping those in need\, by completing projects for area non-profitorganizations to help change lives and create a stronger community.  \nDay of Caring teams are madeup of volunteers from local businesses\, corporations\, union groups\, donors\, neighborhoods and peoplejust wanting to get involved. Volunteer registration opens in July.  \nProjects are scheduled as half-day (9:30am - 12:30pm or 12:30pm - 3:30pm) or full-day projects (9:30am - 3:30pm). All projectssubmitted must be pre-approved by United Way. To submit a volunteer project go to http://volunteer.truist.com/uwotqca-3/agency/.\nFor more information about the Day of Caring\, please contact Amy Danielsat adaniels@unitedwayqc.org or 563.344.0344.\n
LOCATION:Quad Cities Area
UID:e.2843.81
SEQUENCE:3
DTSTAMP:20260421T183826Z
URL:https://member.quadcitieschamber.com/events/details/united-way-day-of-caring-08-21-2013-81
END:VEVENT

END:VCALENDAR
