BEGIN:VCALENDAR
VERSION:2.0
PRODID:-//ChamberMaster//Event Calendar 2.0//EN
METHOD:PUBLISH
X-PUBLISHED-TTL:P3D
REFRESH-INTERVAL:P3D
CALSCALE:GREGORIAN
BEGIN:VEVENT
DTSTART:20210429T210000Z
DTEND:20210429T230000Z
X-MICROSOFT-CDO-ALLDAYEVENT:FALSE
SUMMARY:United Way Quad Cities Pitch Off
DESCRIPTION:Mark your calendars for the United Way Quad Cities Pitch Off event set for April 29 starting at 4pm online. More details to come soon!
X-ALT-DESC;FMTTYPE=text/html:Mark your calendars for the United Way Quad Cities Pitch Off event set for April 29 starting at 4pm online. More details to come soon!
LOCATION:Virtual\, more details to come.
UID:e.2843.18742
SEQUENCE:3
DTSTAMP:20260421T032104Z
URL:https://member.quadcitieschamber.com/events/details/united-way-quad-cities-pitch-off-18742
END:VEVENT

END:VCALENDAR
