BEGIN:VCALENDAR
VERSION:2.0
PRODID:-//ChamberMaster//Event Calendar 2.0//EN
METHOD:PUBLISH
X-PUBLISHED-TTL:P3D
REFRESH-INTERVAL:P3D
CALSCALE:GREGORIAN
BEGIN:VEVENT
DTSTART:20130425T230000Z
DTEND:20130426T010000Z
X-MICROSOFT-CDO-ALLDAYEVENT:FALSE
SUMMARY:United Way Young Leaders Kickoff
DESCRIPTION:Join us for a a roarin' good time at the United Way Young Leaders Kickoff! Silent auction of items up to $750 begins at 6pm and a performance by the ComedySportz team will begin at 6:30pm. Hor dâ€™oeuvres and cash bar available. Seats are limited. Tickets are $15 per person or $40 for a table of 4.RSVP at https://epledgeuwqc.org/Common/UserRegistrationSER.jsp?EventKeyHex=35313635 or call Amy Barnett at 563.344.0328 by April 18th.
X-ALT-DESC;FMTTYPE=text/html:Join us for a a roarin' good time at the United Way Young Leaders Kickoff! Silent auction of items up to $750 begins at 6pm and a performance by the ComedySportz team will begin at 6:30pm. Hor dâ€™oeuvres and cash bar available. Seats are limited. Tickets are $15 per person or $40 for a table of 4.RSVP at https://epledgeuwqc.org/Common/UserRegistrationSER.jsp?EventKeyHex=35313635 or call Amy Barnett at 563.344.0328 by April 18th. \n\n \n\n
LOCATION:ComedySportz220 19th Street Rock Island\, IL 61201
UID:e.2843.82
SEQUENCE:3
DTSTAMP:20260421T104717Z
URL:https://member.quadcitieschamber.com/events/details/united-way-young-leaders-kickoff-04-25-2013-82
END:VEVENT

END:VCALENDAR
