BEGIN:VCALENDAR
VERSION:2.0
PRODID:-//ChamberMaster//Event Calendar 2.0//EN
METHOD:PUBLISH
X-PUBLISHED-TTL:P3D
REFRESH-INTERVAL:P3D
CALSCALE:GREGORIAN
BEGIN:VEVENT
DTSTART:20140121T223000Z
DTEND:20140121T230000Z
X-MICROSOFT-CDO-ALLDAYEVENT:FALSE
SUMMARY:UnityPoint Health Grand Opening Ribbon Cutting
DESCRIPTION:UnityPoint Health\, located at 5401 44th Avenue Dr. Moline\, IL 61265 (near 53rd Street and John Deere Road)\, will be celebrating the grand opening of their new facility on Tuesday\, January 21st at 4:30pm.  http://mapq.st/19fg2hx.  The ribbon cutting will be followed by an open house.  The new facility will include a UnityPoint Clinic family medicine practice with medical home services.  Dr. Nicole Chickris and Dr. Michael Bollaert\, formally of Family Medicine - Moline Clinic\, will now practice at the new location\, which will be known as Family Medicine - John Deere Rd.  The UnityPoint Express Care will re-locate from Avenue of the Cities in East Moline and offer expanded hours beginning at 7:00am.  The new facility includes urgent care services\, on-site X-rays and labs provided by Metropolitan Medical Laboratory\, PLC.  For more information\, please visit http://www.unitypoint.org/quadcities/Default.aspx.   Michael Coughlin\, Membership Manager\, will be speaking on behalf of the Quad Cities Chamber of Commerce.
X-ALT-DESC;FMTTYPE=text/html:<P style="MARGIN: 0in 0in 0pt" class=MsoNormal><P style="MARGIN: 0in 0in 0pt" class=MsoNormal><FONT face=Calibri>UnityPoint Health\, <B style="mso-bidi-font-weight: normal">located at 5401 44<SUP>th</SUP> Avenue Dr. Moline\, IL 61265</B> (near 53rd Street and John Deere Road)\, will be celebrating the grand opening of their new facility on <B style="mso-bidi-font-weight: normal">Tuesday\, January 21<SUP>st</SUP> at 4:30pm</B>.<SPAN style="mso-spacerun: yes">&nbsp\; </SPAN></FONT><A href="http://mapq.st/19fg2hx">http://mapq.st/19fg2hx</A><FONT face=Calibri>. <SPAN style="mso-spacerun: yes">&nbsp\;</SPAN>The ribbon cutting will be followed by an open house. <?xml:namespace prefix = o ns = "urn:schemas-microsoft-com:office:office" /><o:p></o:p></FONT></P><P style="MARGIN: 0in 0in 0pt" class=MsoNormal><o:p><FONT face=Calibri>&nbsp\;</FONT></o:p></P><P style="MARGIN: 0in 0in 0pt" class=MsoNormal><FONT face=Calibri>The new facility will include a UnityPoint Clinic family medicine practice with medical home services.<SPAN style="mso-spacerun: yes">&nbsp\; </SPAN>Dr. Nicole Chickris and Dr. Michael Bollaert\, formally of Family Medicine - Moline Clinic\, will now practice at the new location\, which will be known as Family Medicine - John Deere Rd. <o:p></o:p></FONT></P><P style="MARGIN: 0in 0in 0pt" class=MsoNormal><o:p><FONT face=Calibri>&nbsp\;</FONT></o:p></P><P style="MARGIN: 0in 0in 0pt" class=MsoNormal><FONT face=Calibri>The UnityPoint Express Care will re-locate from Avenue of the Cities in East Moline and offer expanded hours beginning at 7:00am.<SPAN style="mso-spacerun: yes">&nbsp\; </SPAN>The new facility includes urgent care services\, on-site X-rays and labs provided by Metropolitan Medical Laboratory\, PLC. <o:p></o:p></FONT></P><P style="MARGIN: 0in 0in 0pt" class=MsoNormal><o:p><FONT face=Calibri>&nbsp\;</FONT></o:p></P><P style="MARGIN: 0in 0in 0pt" class=MsoNormal><FONT face=Calibri>For more information\, please visit </FONT><A href="http://www.unitypoint.org/quadcities/Default.aspx">http://www.unitypoint.org/quadcities/Default.aspx</A><FONT face=Calibri>.<SPAN style="mso-spacerun: yes">&nbsp\; </SPAN><o:p></o:p></FONT></P><P style="MARGIN: 0in 0in 0pt" class=MsoNormal><o:p><FONT face=Calibri>&nbsp\;</FONT></o:p></P><P style="MARGIN: 0in 0in 0pt" class=MsoNormal><FONT face=Calibri>Michael Coughlin\, Membership Manager\, will be speaking on behalf of the Quad Cities Chamber of Commerce.<SPAN style="mso-spacerun: yes">&nbsp\; </SPAN></FONT><o:p></o:p></P><P>&nbsp\;</P>
LOCATION:UnityPoint Health5401 44th Avenue Drive Moline\, IL 61265
UID:e.2843.766
SEQUENCE:3
DTSTAMP:20260422T013501Z
URL:https://member.quadcitieschamber.com/events/details/unitypoint-health-grand-opening-ribbon-cutting-01-21-2014-766
END:VEVENT

END:VCALENDAR
