BEGIN:VCALENDAR
VERSION:2.0
PRODID:-//ChamberMaster//Event Calendar 2.0//EN
METHOD:PUBLISH
X-PUBLISHED-TTL:P3D
REFRESH-INTERVAL:P3D
CALSCALE:GREGORIAN
BEGIN:VEVENT
DTSTART:20130523T203000Z
DTEND:20130523T210000Z
X-MICROSOFT-CDO-ALLDAYEVENT:FALSE
SUMMARY:UnityPoint Health - Trinity Bettendorf\, Pain Management Center Ribbon Cutting
DESCRIPTION:Please help UnityPoint Health – Trinity Bettendorf celebrate the opening of their new Pain Management Center on Thursday\, May 23rd at 3:30pm – Located at 4480 Utica Ridge Road\, Ste. 2222\, Bettendorf\, inside Trinity Bettendorf. At the Pain Management Center\, patients are assisted through the assessment\, treatment and follow up phases of care with a central focus on improvement of the patients day to day functional abilities while decreasing pain and its influence on the patient’s life.  They also provide pain interventional procedures\, medication management\, care coordination with primary care. To learn more about their services\, please visit www.trinityqc.com.
X-ALT-DESC;FMTTYPE=text/html:<P style="MARGIN: 0in 0in 0pt" class=MsoNormal><FONT face=Calibri>Please help UnityPoint Health – Trinity Bettendorf celebrate the opening of their new Pain Management Center on <B style="mso-bidi-font-weight: normal">Thursday\, May 23<SUP>rd</SUP> at 3:30pm</B> – Located at 4480 Utica Ridge Road\, Ste. 2222\, Bettendorf\, inside Trinity Bettendorf.<?xml:namespace prefix = o ns = "urn:schemas-microsoft-com:office:office" /><o:p></o:p></FONT></P><P style="MARGIN: 0in 0in 0pt" class=MsoNormal><o:p><FONT face=Calibri>&nbsp\;</FONT></o:p></P><P style="MARGIN: 0in 0in 0pt" class=MsoNormal><FONT face=Calibri>At the Pain Management Center\, patients are assisted through the assessment\, treatment and follow up phases of care with a central focus on improvement of the patients day to day functional abilities while decreasing pain and its influence on the patient’s life.<SPAN style="mso-spacerun: yes">&nbsp\; </SPAN>They also provide pain interventional procedures\, medication management\, care coordination with primary care.<o:p></o:p></FONT></P><P style="MARGIN: 0in 0in 0pt" class=MsoNormal><o:p><FONT face=Calibri>&nbsp\;</FONT></o:p></P><P style="MARGIN: 0in 0in 0pt" class=MsoNormal><FONT face=Calibri>To learn more about their services\, please visit </FONT><A href="http://www.trinityqc.com">www.trinityqc.com</A><FONT face=Calibri>.<o:p></o:p></FONT></P><DIV style="FONT-FAMILY: Arial"><FONT face="Times New Roman"></FONT>&nbsp\;</DIV>
LOCATION:UnityPoint Health - Trinity\, Pain Management Center4480 Utica Ridge Road\, Ste. 2222 Bettendorf\, IA 52722
UID:e.2843.584
SEQUENCE:3
DTSTAMP:20260421T135104Z
URL:https://member.quadcitieschamber.com/events/details/unitypoint-health-trinity-bettendorf-pain-management-center-ribbon-cutting-05-23-2013-584
END:VEVENT

END:VCALENDAR
