BEGIN:VCALENDAR
VERSION:2.0
PRODID:-//ChamberMaster//Event Calendar 2.0//EN
METHOD:PUBLISH
X-PUBLISHED-TTL:P3D
REFRESH-INTERVAL:P3D
CALSCALE:GREGORIAN
BEGIN:VEVENT
DTSTART:20171028T230000Z
DTEND:20171029T020000Z
X-MICROSOFT-CDO-ALLDAYEVENT:FALSE
SUMMARY:Unmasking Mental Health Gala
DESCRIPTION:The Vera French Foundation is excited to re-introduce our Gala event\, Unmasking Mental Health - a masquerade event to raise funds for our various mental health programs. The event will include a dinner\, silent auction\, live auction\, and a presentation from a mother whose son weathers the life storms of mental illness.
X-ALT-DESC;FMTTYPE=text/html:The Vera French Foundation is excited to re-introduce our Gala event\, Unmasking Mental Health - a masquerade event to raise funds for our various mental health programs. The event will include a dinner\, silent auction\, live auction\, and a presentation from a mother whose son weathers the life storms of mental illness.
LOCATION:Waterfront Convention Center 2021 State St. Bettendorf\, IA 52722
UID:e.2843.6386
SEQUENCE:3
DTSTAMP:20260423T222331Z
URL:https://member.quadcitieschamber.com/events/details/unmasking-mental-health-gala-6386
END:VEVENT

END:VCALENDAR
