BEGIN:VCALENDAR
VERSION:2.0
PRODID:-//ChamberMaster//Event Calendar 2.0//EN
METHOD:PUBLISH
X-PUBLISHED-TTL:P3D
REFRESH-INTERVAL:P3D
CALSCALE:GREGORIAN
BEGIN:VEVENT
DTSTART:20120322T220000Z
DTEND:20120323T000000Z
X-MICROSOFT-CDO-ALLDAYEVENT:FALSE
SUMMARY:Upper Iowa University Ribbon Cutting
DESCRIPTION:Upper Iowa University will celebrate their grand opening with a ribbon cutting ceremony on Thursday\, March 22nd at 5pm.  The University is located at 1401 Kimberly Rd. in Bettendorf\, in front of Burlington Coat Factory\, next to Dunn Bros Coffee. Upper Iowa University\, est. 1857 and fully accredited\, is a not-for-profit\, 4 year plus Master’s degree institution facilitating in-class and online learning environments.  At the Quad Cities Center\, we offer 13 Bachelor of Science degree programs\, which include Accounting\, Business Administration\, Criminal Justice\, Emergency & Disaster Management\, Financial Management\, Health Services Administration\, Human Resources Management\, Human Services\, Interdisciplinary Studies\, Management\, Marketing\, Psychology\, and Public Administration.  The Quad Cities Center has (6) 8 week terms per year and focuses on accommodating the working adult.  Please visit the website at www.uiu.edu/quadcities or call 563-359-7111.
X-ALT-DESC;FMTTYPE=text/html:<DIV><FONT face=Calibri><P style="MARGIN: 0in 0in 0pt" class=MsoNormal>Upper Iowa University will celebrate their grand opening with a ribbon cutting ceremony on Thursday\, March 22<SUP>nd</SUP> at 5pm.<SPAN style="mso-spacerun: yes">&nbsp\; </SPAN>The University is located at 1401 Kimberly Rd. in Bettendorf\, in front of Burlington Coat Factory\, next to Dunn Bros Coffee.</P><P style="MARGIN: 0in 0in 0pt" class=MsoNormal><?xml:namespace prefix = o ns = "urn:schemas-microsoft-com:office:office" /><o:p>&nbsp\;</o:p></P><P style="MARGIN: 0in 0in 0pt" class=MsoNormal>Upper Iowa University\, est. 1857 and fully accredited\, is a not-for-profit\, 4 year plus Master’s degree institution facilitating in-class and online learning environments.<SPAN style="mso-spacerun: yes">&nbsp\; </SPAN>At the Quad Cities Center\, we offer 13 Bachelor of Science degree programs\, which include Accounting\, Business Administration\, Criminal Justice\, Emergency &amp\; Disaster Management\, Financial Management\, Health Services Administration\, Human Resources Management\, Human Services\, Interdisciplinary Studies\, Management\, Marketing\, Psychology\, and Public Administration.<SPAN style="mso-spacerun: yes">&nbsp\; </SPAN>The Quad Cities Center has (6) 8 week terms per year and focuses on accommodating the working adult.<SPAN style="mso-spacerun: yes">&nbsp\; </SPAN>Please visit the website at <A href="http://www.uiu.edu/quadcities%20or%20call%20563-359-7111"><FONT face="Times New Roman">www.uiu.edu/quadcities or call 563-359-7111</FONT></A>.</P><P style="MARGIN: 0in 0in 0pt" class=MsoNormal>&nbsp\;</P></FONT></DIV>
LOCATION:Upper Iowa University1401 Kimberly Rd Bettendorf\, IA 52722
UID:e.2843.339
SEQUENCE:3
DTSTAMP:20260422T062004Z
URL:https://member.quadcitieschamber.com/events/details/upper-iowa-university-ribbon-cutting-03-22-2012-339
END:VEVENT

END:VCALENDAR
