BEGIN:VCALENDAR
VERSION:2.0
PRODID:-//ChamberMaster//Event Calendar 2.0//EN
METHOD:PUBLISH
X-PUBLISHED-TTL:P3D
REFRESH-INTERVAL:P3D
CALSCALE:GREGORIAN
BEGIN:VEVENT
DTSTART:20130517T170000Z
DTEND:20130517T173000Z
X-MICROSOFT-CDO-ALLDAYEVENT:FALSE
SUMMARY:US Cellular Grand Opening & Ribbon Cutting
DESCRIPTION:Please help US Cellular celebrate their newest location on Friday\, May 17th at Noon (Lunch will be provided).  Located at 351 W. Kimberly Road in Davenport – Corner of West Kimberly & Harrison. This US Cellular location is the newest store design – 1st in Iowa/High Touch – High Feel. For more information\, please visit www.USCellular.com.
X-ALT-DESC;FMTTYPE=text/html:<P style="MARGIN: 0in 0in 0pt" class=MsoNormal><FONT face=Calibri>Please help US Cellular celebrate their newest location on Friday\, May 17<SUP>th</SUP> at Noon (Lunch will be provided).<SPAN style="mso-spacerun: yes">&nbsp\; </SPAN>Located at 351 W. Kimberly Road in Davenport – Corner of West Kimberly &amp\; Harrison.<?xml:namespace prefix = o ns = "urn:schemas-microsoft-com:office:office" /><o:p></o:p></FONT></P><P style="MARGIN: 0in 0in 0pt" class=MsoNormal><o:p><FONT face=Calibri>&nbsp\;</FONT></o:p></P><P style="MARGIN: 0in 0in 0pt" class=MsoNormal><FONT face=Calibri>This US Cellular location is the newest store design – 1<SUP>st</SUP> in Iowa/High Touch – High Feel.<o:p></o:p></FONT></P><P style="MARGIN: 0in 0in 0pt" class=MsoNormal><o:p><FONT face=Calibri>&nbsp\;</FONT></o:p></P><P style="MARGIN: 0in 0in 0pt" class=MsoNormal><FONT face=Calibri>For more information\, please visit </FONT><A href="http://www.USCellular.com">www.USCellular.com</A><FONT face=Calibri>.<o:p></o:p></FONT></P><DIV style="FONT-FAMILY: Arial">&nbsp\;</DIV>
LOCATION:US Cellular351 W. Kimberly Road in Davenport Davenport\, IA
UID:e.2843.570
SEQUENCE:3
DTSTAMP:20260421T121223Z
URL:https://member.quadcitieschamber.com/events/details/us-cellular-grand-opening-ribbon-cutting-05-17-2013-570
END:VEVENT

END:VCALENDAR
