BEGIN:VCALENDAR
VERSION:2.0
PRODID:-//ChamberMaster//Event Calendar 2.0//EN
METHOD:PUBLISH
X-PUBLISHED-TTL:P3D
REFRESH-INTERVAL:P3D
CALSCALE:GREGORIAN
BEGIN:VEVENT
DTSTART:20120120T200000Z
DTEND:20120120T203000Z
X-MICROSOFT-CDO-ALLDAYEVENT:FALSE
SUMMARY:US Cellular - North Park Mall Ribbon Cutting
DESCRIPTION:Please help celebrate the Grand Opening and ribbon cutting for US Cellular\, North Park Mall\, on Friday\, January 20th at 2pm.  This is located in the center of the hallway between JC Penny and the Food Court. Thank you!
X-ALT-DESC;FMTTYPE=text/html:<DIV><FONT face=Calibri><P style="MARGIN: 0in 0in 0pt" class=MsoNormal>Please help celebrate the Grand Opening and ribbon cutting for US Cellular\, North Park Mall\, on Friday\, January 20<SUP>th</SUP> at 2pm.<SPAN style="mso-spacerun: yes">&nbsp\; </SPAN>This is located in the center of the hallway between JC Penny and the Food Court.</P><P style="MARGIN: 0in 0in 0pt" class=MsoNormal><SPAN style="mso-spacerun: yes"></SPAN>&nbsp\;</P><P style="MARGIN: 0in 0in 0pt" class=MsoNormal>Thank you!</P><P style="MARGIN: 0in 0in 0pt" class=MsoNormal>&nbsp\;</P></FONT></DIV>
LOCATION:US Cellular - North Park Mall
UID:e.2843.333
SEQUENCE:3
DTSTAMP:20260422T093432Z
URL:https://member.quadcitieschamber.com/events/details/us-cellular-north-park-mall-ribbon-cutting-01-20-2012-333
END:VEVENT

END:VCALENDAR
