BEGIN:VCALENDAR
VERSION:2.0
PRODID:-//ChamberMaster//Event Calendar 2.0//EN
METHOD:PUBLISH
X-PUBLISHED-TTL:P3D
REFRESH-INTERVAL:P3D
CALSCALE:GREGORIAN
BEGIN:VEVENT
DTSTART:20120113T160000Z
DTEND:20120113T163000Z
X-MICROSOFT-CDO-ALLDAYEVENT:FALSE
SUMMARY:US Cellular Ribbon Cutting
DESCRIPTION:Please help celebrate the Grand Opening and ribbon cutting for US Cellular on Friday\, January 13th at 10am.  Location is 3012 E. 53rd Street\, Davenport\, near Elmore in the same strip as Capriotti’s\, Dairy Queen\, Qdoba\, etc.  There will also be a live radio remote that day. Thank you!
X-ALT-DESC;FMTTYPE=text/html:<DIV><FONT face=Calibri><P style="MARGIN: 0in 0in 0pt" class=MsoNormal>Please help celebrate the Grand Opening and ribbon cutting for US Cellular on Friday\, January 13<SUP>th</SUP> at 10am.<SPAN style="mso-spacerun: yes">&nbsp\; </SPAN>Location is 3012 E. 53<SUP>rd</SUP> Street\, Davenport\, near Elmore in the same strip as Capriotti’s\, Dairy Queen\, Qdoba\, etc.<SPAN style="mso-spacerun: yes">&nbsp\; </SPAN>There will also be a live radio remote that day.</P><P style="MARGIN: 0in 0in 0pt" class=MsoNormal><?xml:namespace prefix = o ns = "urn:schemas-microsoft-com:office:office" /><o:p>&nbsp\;</o:p></P><P style="MARGIN: 0in 0in 0pt" class=MsoNormal>Thank you!</P><P style="MARGIN: 0in 0in 0pt" class=MsoNormal>&nbsp\;</P></FONT></DIV>
LOCATION:U.S. Cellular3012 E. 53rd Street Davenport\, IA 52807
UID:e.2843.332
SEQUENCE:3
DTSTAMP:20260422T092934Z
URL:https://member.quadcitieschamber.com/events/details/us-cellular-ribbon-cutting-01-13-2012-332
END:VEVENT

END:VCALENDAR
