BEGIN:VCALENDAR
VERSION:2.0
PRODID:-//ChamberMaster//Event Calendar 2.0//EN
METHOD:PUBLISH
X-PUBLISHED-TTL:P3D
REFRESH-INTERVAL:P3D
CALSCALE:GREGORIAN
BEGIN:VEVENT
DTSTART:20171018T163000Z
DTEND:20171018T173000Z
X-MICROSOFT-CDO-ALLDAYEVENT:FALSE
SUMMARY:Using Social Media to Drive Holiday Sales
DESCRIPTION:Using Social Media to Drive Holiday Sales\n\nFeaturing Amy Trimble\, Watermark Corners and Tiphanie Cannon\, Oh So Sweet\, facilitated by Kirby Winn\, Director of Marketing\, Mississippi Valley Regional Blood Center\n\n\n\nThere are over 2.4 billion people on social media worldwide and that number continues to grow. These two local business owners will share how social media has impacted their sales\, advice for companies that want to ramp up their social media presence\, and what their social media goals and strategies are\, including how they plan and produce content that makes customers want to buy their product.
X-ALT-DESC;FMTTYPE=text/html:<strong>Using Social Media to Drive Holiday Sales</strong><br />\n<span style="font-size:14px\;">Featuring Amy Trimble\, Watermark </span><span style="font-size:14px\;">Corners</span><span style="font-size:14px\;"> and Tiphanie Cannon\, Oh So Sweet\, facilitated by Kirby Winn\, Director of Marketing\, Mississippi Valley Regional Blood Center<br />\n<br />\nThere are over 2.4 billion people on social media worldwide and that number continues to grow. These two local business owners will share how social media has impacted their sales\, advice for companies that want to ramp up their social media presence\, and what their social media goals and strategies are\, including how they plan and produce content that makes customers want to buy their product.<br />\n&nbsp\;</span><br />\n&nbsp\;
LOCATION:1125 5th Ave.\, Moline\, IL
UID:e.2843.8554
SEQUENCE:3
DTSTAMP:20260423T210315Z
URL:https://member.quadcitieschamber.com/events/details/using-social-media-to-drive-holiday-sales-8554
END:VEVENT

END:VCALENDAR
