BEGIN:VCALENDAR
VERSION:2.0
PRODID:-//ChamberMaster//Event Calendar 2.0//EN
METHOD:PUBLISH
X-PUBLISHED-TTL:P3D
REFRESH-INTERVAL:P3D
CALSCALE:GREGORIAN
BEGIN:VEVENT
DTSTART:20131003T130000Z
DTEND:20131003T133000Z
X-MICROSOFT-CDO-ALLDAYEVENT:FALSE
SUMMARY:V-Suites Ribbon Cutting
DESCRIPTION:Please join V-Suites in celebrating the expansion of their business into the Quad Cities Area on Thursday\, October 3rd at 8:00am – Located at 130 West 2nd Street Davenport\, IA 52801\, the Chamber’s Davenport Office (directly across from Woodfire Grill).  http://mapq.st/193hfXV.  V-Suites is one of the premier names in temporary furnished solutions.  They earn recognition from guests\, corporate decision-makers and critics alike.  At V-Suites\, they have a commitment to concierge-level service and they select only the finest long-term apartments.  With every reservation and interaction\, they aim to give their guests an extraordinary experience for less than the cost of an extended-stay hotel.  Above all\, their aim is to ensure their guest’s stay “Feels Like Home.” For more information please visit www.v-suites.com.
X-ALT-DESC;FMTTYPE=text/html:<DIV style="FONT-FAMILY: Arial">Please join V-Suites in celebrating the expansion of their business into the Quad Cities Area on Thursday\, October 3rd at 8:00am – Located at 130 West 2nd Street Davenport\, IA 52801\, the Chamber’s Davenport Office (directly across from Woodfire Grill).&nbsp\; <A href="http://mapq.st/193hfXV">http://mapq.st/193hfXV</A>. </DIV><DIV style="FONT-FAMILY: Arial">&nbsp\;</DIV><DIV style="FONT-FAMILY: Arial">V-Suites is one of the premier names in temporary furnished solutions.&nbsp\; They earn recognition from guests\, corporate decision-makers and critics alike.&nbsp\; At V-Suites\, they have a commitment to concierge-level service and they select only the finest long-term apartments.&nbsp\; With every reservation and interaction\, they aim to give their guests an extraordinary experience for less than the cost of an extended-stay hotel.&nbsp\; Above all\, their aim is to ensure their guest’s stay “Feels Like Home.”</DIV><DIV style="FONT-FAMILY: Arial">&nbsp\;</DIV><DIV style="FONT-FAMILY: Arial">For more information please visit <A href="http://www.v-suites.com">www.v-suites.com</A>.&nbsp\; <BR></DIV>
LOCATION:V-Suites.Com37655 Interchange Dr. Fermington Hills\, MI 48335
UID:e.2843.705
SEQUENCE:3
DTSTAMP:20260421T215901Z
URL:https://member.quadcitieschamber.com/events/details/v-suites-ribbon-cutting-10-03-2013-705
END:VEVENT

END:VCALENDAR
