BEGIN:VCALENDAR
VERSION:2.0
PRODID:-//ChamberMaster//Event Calendar 2.0//EN
METHOD:PUBLISH
X-PUBLISHED-TTL:P3D
REFRESH-INTERVAL:P3D
CALSCALE:GREGORIAN
BEGIN:VEVENT
DTSTART:20190214T233000Z
DTEND:20190215T040000Z
X-MICROSOFT-CDO-ALLDAYEVENT:FALSE
SUMMARY:Valentine's Day at Modern Woodmen Park
DESCRIPTION:Taking reservations for our Valentine's Day Dinner. We have our private suite or lounge dining starting at 6:30 pm on Thursday\, February 14th. Enjoy a lovely night out with your significant other or with a group of friends! Call 563-333-2730 to get more information or visit our website for order forms and menu selection.
X-ALT-DESC;FMTTYPE=text/html:Taking reservations for our Valentine&#39\;s Day Dinner. We have our private suite or lounge dining starting at 6:30 pm on Thursday\, February 14th. Enjoy a lovely night out with your significant other or with a group of friends! Call 563-333-2730 to get more information or visit our website for order forms and menu selection.
LOCATION:Modern Woodmen Park / QC River Bandits
UID:e.2843.13772
SEQUENCE:3
DTSTAMP:20260422T215028Z
URL:https://member.quadcitieschamber.com/events/details/valentine-s-day-at-modern-woodmen-park-13772
END:VEVENT

END:VCALENDAR
